BEGIN:VCALENDAR
VERSION:2.0
PRODID:-//STRAWANZERIN - ECPv4.9.5//NONSGML v1.0//EN
CALSCALE:GREGORIAN
METHOD:PUBLISH
X-WR-CALNAME:STRAWANZERIN
X-ORIGINAL-URL:https://www.strawanzerin.at
X-WR-CALDESC:Veranstaltungen im STRAWANZERIN
BEGIN:VTIMEZONE
TZID:"Europe/Vienna"
BEGIN:DAYLIGHT
TZOFFSETFROM:+0100
TZOFFSETTO:+0200
TZNAME:CEST
DTSTART:20170326T010000
END:DAYLIGHT
BEGIN:STANDARD
TZOFFSETFROM:+0200
TZOFFSETTO:+0100
TZNAME:CET
DTSTART:20171029T010000
END:STANDARD
END:VTIMEZONE
BEGIN:VEVENT
DTSTART;TZID="Europe/Vienna":20171125T153000
DTEND;TZID="Europe/Vienna":20171125T230000
DTSTAMP:20260421T162409
CREATED:20171109T081703Z
LAST-MODIFIED:20171110T132139Z
UID:49154-1511623800-1511650800@www.strawanzerin.at
SUMMARY:Benefizveranstaltung: Winterfest
DESCRIPTION:Eine Benefizveranstaltung zugunsten des Vereins VöMit – Miteinander in Bad Vöslau \nStart: ab 15:30 \n16:00 bis 17:00 – Mosaik Kinderstunde \nIrina Weingartner liest aus ihrem Buch „Der kleine Stern Marlou und seine Freunde“.\nIm Anschluss gibt es kreative Theaterspiele mit Julia Bruckner von Showmotions. \n18:00 bis 18:30 – Aminata Seydi und Wolfgang Schmidt\n(Aminata & the Astronauts) \n19:00 bis 20:00 – Swing Lounge \n20:30 – Matthias Kempf \nNatürlich ist für euer leibliches Wohl im und Lagerfeuer vor dem HOB i RAUM gesorgt: es gibt Palatschinken zum Selberfüllen und Glühwein oder Punsch! \n
URL:https://www.strawanzerin.at/termin/benefizveranstaltung-winterfest/
LOCATION:HOB i RAUM\, Hanuschgasse 1\, Bad Vöslau\, Niederösterreich\, 2540
CATEGORIES:Fest,freie Spende,Kinderkultur,Musik,Niederösterreich
ATTACH;FMTTYPE=image/jpeg:https://www.strawanzerin.at/wp-content/uploads/2017/11/winterfest-1.jpg
ORGANIZER;CN="HOB%20i%20RAUM":MAILTO:petra@hobiraum.at
GEO:47.9686941;16.2205195
X-APPLE-STRUCTURED-LOCATION;VALUE=URI;X-ADDRESS=HOB i RAUM Hanuschgasse 1 Bad Vöslau Niederösterreich 2540;X-APPLE-RADIUS=500;X-TITLE=Hanuschgasse 1:geo:16.2205195,47.9686941
END:VEVENT
END:VCALENDAR