BEGIN:VCALENDAR
VERSION:2.0
PRODID:-//STRAWANZERIN - ECPv4.9.5//NONSGML v1.0//EN
CALSCALE:GREGORIAN
METHOD:PUBLISH
X-WR-CALNAME:STRAWANZERIN
X-ORIGINAL-URL:https://www.strawanzerin.at
X-WR-CALDESC:Veranstaltungen im STRAWANZERIN
BEGIN:VTIMEZONE
TZID:"Europe/Vienna"
BEGIN:DAYLIGHT
TZOFFSETFROM:+0100
TZOFFSETTO:+0200
TZNAME:CEST
DTSTART:20240331T010000
END:DAYLIGHT
BEGIN:STANDARD
TZOFFSETFROM:+0200
TZOFFSETTO:+0100
TZNAME:CET
DTSTART:20241027T010000
END:STANDARD
END:VTIMEZONE
BEGIN:VEVENT
DTSTART;TZID="Europe/Vienna":20241204T180000
DTEND;TZID="Europe/Vienna":20241204T180000
DTSTAMP:20260421T044640
CREATED:20241125T195854Z
LAST-MODIFIED:20241125T195854Z
UID:104921-1733335200-1733335200@www.strawanzerin.at
SUMMARY:Bertha von Suttner (1843 – 1914): Schluß mit den Kriegen! Die Waffen nieder!
DESCRIPTION:Vortrag und Lesung mit Gisela Notz (Sozialwissenschaftlerin\, Historikerin\, Aktivistin – Berlin) \nBertha von Suttner kam 1885 in Wien mit den Friedensinitiativen ihrer Zeit in Berührung. Ihr 1889 erschienener Roman “Die Waffen nieder” wurde zum Welterfolg. Der Titel ist ein Appell: Kriege sind von Menschen gemacht und können folglich auch von Menschen verhindert. Drastisch schilderte sie darin das Grauen der Schlachten. Sie wollte das Volk aufklären und die Herrschenden für ihr Friedensstreben gewinnen. Scheinbar aber hat niemand gelernt aus der „Furchtbarkeit“ der Kriege. \nFortsetzung der Reihe Frauen verstehen viel vom Frieden! Feministische Perspektiven und Gegenstrategien zu Militarismus und Krieg. \nModeration: Birge Krondorfer \nIn Kooperation mit WILPF \nDie Veranstaltung ist für Frauen. \n
URL:https://www.strawanzerin.at/termin/bertha-von-suttner-1843-1914-schluss-mit-den-kriegen-die-waffen-nieder/
LOCATION:Frauenbildungsstätte Frauenhetz\, Untere Weißgerberstraße 41\, Wien\, Wien\, 1030\, Österreich
CATEGORIES:Antimilitarismus,Barrierefrei,Deutsch,Feminismus,Gratis,Soziale Kämpfe,Vortrag/Symposium,Wien
GEO:48.2084854;16.3946163
X-APPLE-STRUCTURED-LOCATION;VALUE=URI;X-ADDRESS=Frauenbildungsstätte Frauenhetz Untere Weißgerberstraße 41 Wien Wien 1030 Österreich;X-APPLE-RADIUS=500;X-TITLE=Untere Weißgerberstraße 41:geo:16.3946163,48.2084854
END:VEVENT
END:VCALENDAR