BEGIN:VCALENDAR
VERSION:2.0
PRODID:-//STRAWANZERIN - ECPv4.9.5//NONSGML v1.0//EN
CALSCALE:GREGORIAN
METHOD:PUBLISH
X-WR-CALNAME:STRAWANZERIN
X-ORIGINAL-URL:https://www.strawanzerin.at
X-WR-CALDESC:Veranstaltungen im STRAWANZERIN
BEGIN:VTIMEZONE
TZID:"Europe/Helsinki"
BEGIN:DAYLIGHT
TZOFFSETFROM:+0200
TZOFFSETTO:+0300
TZNAME:EEST
DTSTART:20140330T010000
END:DAYLIGHT
BEGIN:STANDARD
TZOFFSETFROM:+0300
TZOFFSETTO:+0200
TZNAME:EET
DTSTART:20141026T010000
END:STANDARD
END:VTIMEZONE
BEGIN:VEVENT
DTSTART;TZID="Europe/Helsinki":20141015T173000
DTEND;TZID="Europe/Helsinki":20141015T203000
DTSTAMP:20260422T021115
CREATED:20140927T200344Z
LAST-MODIFIED:20141006T081223Z
UID:7602-1413394200-1413405000@www.strawanzerin.at
SUMMARY:Besen binden
DESCRIPTION:Das Binden von Bürsten und Besen ist ein uraltes Handwerk. In diesem Workshop haben wir die Möglichkeit\, dieses für uns zu entdecken. Einen Bartwisch benötigen wir alle\, wie phantastisch\, wenn er selbst hergestellt wurde!!	 \nWorkshopleitung: Cirkovic Dalibor\, gelernter Besen- und Bürstenbinder \nAnmeldung: workshops@recyclingkosmos.at oder 0650 974 99 59 \n
URL:https://www.strawanzerin.at/termin/besen-binden-2/
LOCATION:Recycling Kosmos Zentrale\, Ottakringer Straße 63\, Wien\, Wien\, 1160\, Österreich
CATEGORIES:ab 7,Deutsch,Sonstiges,Wien,Workshop
ATTACH;FMTTYPE=image/jpeg:https://www.strawanzerin.at/wp-content/uploads/2014/09/Bartwisch.jpg
ORGANIZER;CN="Recycling%20Kosmos":MAILTO:workshops@recyclingkosmos.at
GEO:48.2137812;16.3298013
X-APPLE-STRUCTURED-LOCATION;VALUE=URI;X-ADDRESS=Recycling Kosmos Zentrale Ottakringer Straße 63 Wien Wien 1160 Österreich;X-APPLE-RADIUS=500;X-TITLE=Ottakringer Straße 63:geo:16.3298013,48.2137812
END:VEVENT
END:VCALENDAR