BEGIN:VCALENDAR
VERSION:2.0
PRODID:-//STRAWANZERIN - ECPv4.9.5//NONSGML v1.0//EN
CALSCALE:GREGORIAN
METHOD:PUBLISH
X-WR-CALNAME:STRAWANZERIN
X-ORIGINAL-URL:https://www.strawanzerin.at
X-WR-CALDESC:Veranstaltungen im STRAWANZERIN
BEGIN:VTIMEZONE
TZID:"Europe/Vienna"
BEGIN:DAYLIGHT
TZOFFSETFROM:+0100
TZOFFSETTO:+0200
TZNAME:CEST
DTSTART:20250330T010000
END:DAYLIGHT
BEGIN:STANDARD
TZOFFSETFROM:+0200
TZOFFSETTO:+0100
TZNAME:CET
DTSTART:20251026T010000
END:STANDARD
END:VTIMEZONE
BEGIN:VEVENT
DTSTART;TZID="Europe/Vienna":20250130T193000
DTEND;TZID="Europe/Vienna":20250130T193000
DTSTAMP:20260420T210333
CREATED:20241220T105612Z
LAST-MODIFIED:20241220T105612Z
UID:105225-1738265400-1738265400@www.strawanzerin.at
SUMMARY:Beyond the Overflow
DESCRIPTION:Von Elisabeth Bakambamba Tambwe | Eine Produktion von Dig Up Productions in Koproduktion mit ImPulsTanz – Vienna International Dance Festival und Theater am Werk \nIn Beyond the Overflow wird die Kunst befreit und enthüllt. Die Performer*innen\, deren Körper sowohl bearbeitet als auch ausgebeutet werden\, werden selbst zu Kunstwerken\, die Begehren und Transaktion miteinander verbinden. Mit diesem Projekt setzt die Künstlerin Elisabeth Bakambamba Tambwe ihre Reihe zu Roland Barthes‘ „Fragmente einer Sprache der Liebe“ fort.\nElisabeth Bakambamba Tambwe beschäftigt sich in ihrer choreografischen Arbeit mit der fragilen Dimension des Körpers und dem Konzept von Normalität\, das sie als tyrannisch und erniedrigend kritisiert. Ihre Arbeiten wurden u. a. bei den Wiener Festwochen\, beim steirischen herbst\, im brut Wien\, bei ImPulsTanz und im Forum Freies Theater Düsseldorf (FFT) gezeigt. \n
URL:https://www.strawanzerin.at/termin/beyond-the-overflow/
LOCATION:Theater am Werk im Kabelwerk\, Oswaldgasse 35A\, Wien\, Wien\, 1120\, Österreich
CATEGORIES:Barrierefrei,Tanz,Theater/Kabarett,Wien
ATTACH;FMTTYPE=image/jpeg:https://www.strawanzerin.at/wp-content/uploads/2024/12/Beyond-the-Overflow_oksana_bondar_AdobeStock.jpg
ORGANIZER;CN="Theater%20am%20Werk":MAILTO:reservierung@theater-am-werk.at
END:VEVENT
END:VCALENDAR