BEGIN:VCALENDAR
VERSION:2.0
PRODID:-//STRAWANZERIN - ECPv4.9.5//NONSGML v1.0//EN
CALSCALE:GREGORIAN
METHOD:PUBLISH
X-WR-CALNAME:STRAWANZERIN
X-ORIGINAL-URL:https://www.strawanzerin.at
X-WR-CALDESC:Veranstaltungen im STRAWANZERIN
BEGIN:VTIMEZONE
TZID:"Europe/Vienna"
BEGIN:DAYLIGHT
TZOFFSETFROM:+0100
TZOFFSETTO:+0200
TZNAME:CEST
DTSTART:20230326T010000
END:DAYLIGHT
BEGIN:STANDARD
TZOFFSETFROM:+0200
TZOFFSETTO:+0100
TZNAME:CET
DTSTART:20231029T010000
END:STANDARD
END:VTIMEZONE
BEGIN:VEVENT
DTSTART;TZID="Europe/Vienna":20230613T180000
DTEND;TZID="Europe/Vienna":20230613T210000
DTSTAMP:20260421T040502
CREATED:20230521T172627Z
LAST-MODIFIED:20230521T172627Z
UID:91650-1686679200-1686690000@www.strawanzerin.at
SUMMARY:Bezirksfestwochenkonzert Meeresrauschen
DESCRIPTION:Der Musikverein Rudolfsheim-Fünfhaus entführt Sie im Rahmen des Bezirksfestwochenkonzerts ans Meer. Wer ist nicht gerne am Strand\, steckt die Füße in den Sand und lauscht der Brandung? Es erwarten Sie Musikstücke\, die Sie in Urlaubsstimmung versetzen und die Sehnsucht nach dem Meer in Klänge übersetzt. Von den „Sea Songs“ bis zur „Black River Overture“ findet sich ein breiter musikalischer Querschnitt.\nNehmen Sie sich Zeit für einen Kurzurlaub am Meer! \n
URL:https://www.strawanzerin.at/termin/bezirksfestwochenkonzert-meeresrauschen/
LOCATION:Festsaal der Berufsschule Hütteldorferstraße\, Hütteldorferstraße 7-17\, 1150 Wien\, Wien\, 1150\, Österreich
CATEGORIES:Musik
ATTACH;FMTTYPE=image/jpeg:https://www.strawanzerin.at/wp-content/uploads/2023/05/Festwochenkonzertplakat.jpeg
GEO:48.2011193;16.3350665
X-APPLE-STRUCTURED-LOCATION;VALUE=URI;X-ADDRESS=Festsaal der Berufsschule Hütteldorferstraße Hütteldorferstraße 7-17 1150 Wien Wien 1150 Österreich;X-APPLE-RADIUS=500;X-TITLE=Hütteldorferstraße 7-17:geo:16.3350665,48.2011193
END:VEVENT
END:VCALENDAR