BEGIN:VCALENDAR
VERSION:2.0
PRODID:-//STRAWANZERIN - ECPv4.9.5//NONSGML v1.0//EN
CALSCALE:GREGORIAN
METHOD:PUBLISH
X-WR-CALNAME:STRAWANZERIN
X-ORIGINAL-URL:https://www.strawanzerin.at
X-WR-CALDESC:Veranstaltungen im STRAWANZERIN
BEGIN:VTIMEZONE
TZID:"Europe/Vienna"
BEGIN:DAYLIGHT
TZOFFSETFROM:+0100
TZOFFSETTO:+0200
TZNAME:CEST
DTSTART:20240331T010000
END:DAYLIGHT
BEGIN:STANDARD
TZOFFSETFROM:+0200
TZOFFSETTO:+0100
TZNAME:CET
DTSTART:20241027T010000
END:STANDARD
END:VTIMEZONE
BEGIN:VEVENT
DTSTART;TZID="Europe/Vienna":20241107T190000
DTEND;TZID="Europe/Vienna":20241107T210000
DTSTAMP:20260420T231915
CREATED:20241011T162008Z
LAST-MODIFIED:20241011T162008Z
UID:103990-1731006000-1731013200@www.strawanzerin.at
SUMMARY:»Bezirksoper« für Rudolfsheim-Fünfhaus
DESCRIPTION:Auf Initiative von Bezirksvorsteher Mag. Dietmar Baurecht erinnern die Kammeroper Wien-Fünfhaus und die Vienna Royal Philharmonic am Donnerstag\, dem 7. November 2024\, um 19 Uhr im Festsaal der Bezirksvorstehung Rudolfsheim-Fünfhaus an den österreichischen Komponisten Hans Rott (1858 – 1884). Die Aufführung von »15 – Die Bezirksoper« des künstlerischen Leiters Peter Illavsky handelt vom bewegten Leben des Tondichters\, der Lieblingsschüler von Anton Bruckner und Studienkollege von Gustav Mahler war und auf dem Gebiet des heutigen 15. Bezirks wohnte. Eintritt frei. Anmeldung: viennaroyalphilharmonic@gmail.com \nOrt:\nBezirksvorstehung Rudolfsheim-Fünfhaus\, Feststiege\, Rosinagasse 4\, 1150 Wien \nBild: Bezirksvorsteher Mag. Dietmar Baurecht mit Jacqueline Kopacinski (Violine) und Peter Illavsky\, Foto/© Conny de Beauclair \n
URL:https://www.strawanzerin.at/termin/bezirksoper-fuer-rudolfsheim-fuenfhaus/
LOCATION:Festsaal der Bezirksvorstehung Rudolfsheim-Fünfhaus\, Rosinagasse 4\, Wien\, Wien\, 1150\, Österreich
CATEGORIES:Gratis,Musik,Wien
ATTACH;FMTTYPE=image/jpeg:https://www.strawanzerin.at/wp-content/uploads/2024/10/Baurecht-Kopacinskaja-Illavsky.jpg
END:VEVENT
END:VCALENDAR