BEGIN:VCALENDAR
VERSION:2.0
PRODID:-//STRAWANZERIN - ECPv4.9.5//NONSGML v1.0//EN
CALSCALE:GREGORIAN
METHOD:PUBLISH
X-WR-CALNAME:STRAWANZERIN
X-ORIGINAL-URL:https://www.strawanzerin.at
X-WR-CALDESC:Veranstaltungen im STRAWANZERIN
BEGIN:VTIMEZONE
TZID:"Europe/Helsinki"
BEGIN:DAYLIGHT
TZOFFSETFROM:+0200
TZOFFSETTO:+0300
TZNAME:EEST
DTSTART:20170326T010000
END:DAYLIGHT
BEGIN:STANDARD
TZOFFSETFROM:+0300
TZOFFSETTO:+0200
TZNAME:EET
DTSTART:20171029T010000
END:STANDARD
END:VTIMEZONE
BEGIN:VEVENT
DTSTART;TZID="Europe/Helsinki":20170217T200000
DTEND;TZID="Europe/Helsinki":20170217T200000
DTSTAMP:20260422T130821
CREATED:20170201T115817Z
LAST-MODIFIED:20170210T092824Z
UID:39508-1487361600-1487361600@www.strawanzerin.at
SUMMARY:Bikeball #10
DESCRIPTION:Pedalistinnen und Pedalisten unserer KFZ_ruinierten Zivilisation notiert euch: Zum zehnten Mal rettet uns das Hochfest des Fahrrads vor den Unbilden der Ölwirtschaft und der Auto-Agression: Viele\, viele Bands und Auflegereien\, Visual Jockeys\, Fahrradspiele\, Fahrradinstallationen\, rasante Fahrrad-Augenhypnose-Soundexperimente. Tanzen bis zum besseren Übermorgen! \n
URL:https://www.strawanzerin.at/termin/bikeball-10/
CATEGORIES:Fest,freie Spende,Recht auf Stadt,Wien
END:VEVENT
END:VCALENDAR