BEGIN:VCALENDAR
VERSION:2.0
PRODID:-//STRAWANZERIN - ECPv4.9.5//NONSGML v1.0//EN
CALSCALE:GREGORIAN
METHOD:PUBLISH
X-WR-CALNAME:STRAWANZERIN
X-ORIGINAL-URL:https://www.strawanzerin.at
X-WR-CALDESC:Veranstaltungen im STRAWANZERIN
BEGIN:VTIMEZONE
TZID:"Europe/Helsinki"
BEGIN:DAYLIGHT
TZOFFSETFROM:+0200
TZOFFSETTO:+0300
TZNAME:EEST
DTSTART:20160327T010000
END:DAYLIGHT
BEGIN:STANDARD
TZOFFSETFROM:+0300
TZOFFSETTO:+0200
TZNAME:EET
DTSTART:20161030T010000
END:STANDARD
END:VTIMEZONE
BEGIN:VEVENT
DTSTART;TZID="Europe/Helsinki":20160311T190000
DTEND;TZID="Europe/Helsinki":20160311T220000
DTSTAMP:20260422T221516
CREATED:20160307T141144Z
LAST-MODIFIED:20160308T175051Z
UID:25083-1457722800-1457733600@www.strawanzerin.at
SUMMARY:BILLY\, JOHNNY & CHARLY
DESCRIPTION:Billy\, Johnny & Charly sind Grossstadtcowboys\, die sich nur einer Tradition verpflichtet fühlen: Musik zu machen\, die sich gut anfühlt. Gespielt werden unter anderem Lieder aus Old America\, Osteuropa\, Skandinavien und dem Alpenraum\, aber auch Eigenkompositionen.\nDie drei Musiker kommen aus Katalonien\, Oberösterreich und der Steiermark und lieben es\, ihre Instrumente von zart bis vehement auszuloten. \nFlorian Sighartner: Violine\nGeorg Felber: Gitarre\nCarles Muñoz Camarero: Cello \n
URL:https://www.strawanzerin.at/termin/billy-johnny-charly/
LOCATION:froff Boutique\, Reindorfgasse 10\, Wien \, Wien\, 1150\, Österreich
CATEGORIES:freie Spende,Musik,Wien
GEO:48.1883109;16.3308399
X-APPLE-STRUCTURED-LOCATION;VALUE=URI;X-ADDRESS=froff Boutique Reindorfgasse 10 Wien  Wien 1150 Österreich;X-APPLE-RADIUS=500;X-TITLE=Reindorfgasse 10:geo:16.3308399,48.1883109
END:VEVENT
END:VCALENDAR