BEGIN:VCALENDAR
VERSION:2.0
PRODID:-//STRAWANZERIN - ECPv4.9.5//NONSGML v1.0//EN
CALSCALE:GREGORIAN
METHOD:PUBLISH
X-WR-CALNAME:STRAWANZERIN
X-ORIGINAL-URL:https://www.strawanzerin.at
X-WR-CALDESC:Veranstaltungen im STRAWANZERIN
BEGIN:VTIMEZONE
TZID:"Europe/Helsinki"
BEGIN:DAYLIGHT
TZOFFSETFROM:+0200
TZOFFSETTO:+0300
TZNAME:EEST
DTSTART:20170326T010000
END:DAYLIGHT
BEGIN:STANDARD
TZOFFSETFROM:+0300
TZOFFSETTO:+0200
TZNAME:EET
DTSTART:20171029T010000
END:STANDARD
END:VTIMEZONE
BEGIN:VEVENT
DTSTART;TZID="Europe/Helsinki":20170221T200000
DTEND;TZID="Europe/Helsinki":20170221T220000
DTSTAMP:20260422T061402
CREATED:20170210T092022Z
LAST-MODIFIED:20170210T092022Z
UID:39635-1487707200-1487714400@www.strawanzerin.at
SUMMARY:Biodanza - offener Abend (Kurs 5 Abende)
DESCRIPTION:Biodanza-Kurs (5 Abende)\, dienstags\, 14-tägig\, Start am 21. Februar\, 6; Studio Perform\nAn diesen 5 Abenden werden wir mit Tanz\, Bewegung und Begegnung\,\ngeschützt im Kreis der Gruppe eintauchen in unsere Energien\,\nwild\, phantasievoll\, unentschlossen\, bedürftig\, zärtlich\, verrückt\, …\nund unsere Kräfte wiederfinden und anerkennen\,\nspüren/erfahren/erforschen\, wie sie uns helfen\,\nunser Leben zu gestalten\nund uns wieder anzunehmen\, genau so wie wir sind! \nKurs-Termine: 21. Februar\, 7. und 21. März\, 4. und 18. April\, dienstags\, 14-tägig\, 5 Abende\nAnleitung: Tara Maria Lugmayr\nWer? AnfängerInnen und Erfahrene\nKursbeitrag: 75 Euro\, Schnuppern: 15 Euro\nWann: Eintreffen 19:45\, Beginn 20:00 bis ca. 22 Uhr\nWo: Studio Perform\, 6; Mariahilferstraße 51\, 3. Innenhof rechts\, Raum SOL\,\nU3 Station Neubaugasse\, Ausgang Kirchengasse\, 1 Minute\nMitbringen: bequeme Kleidung\, Wasserflasche\, rutschfeste Socken\nAnmeldung: bitte per eMail an tara_lugmayr@gmx.at\nTeilnehmeranzahl: 6-12 \n
URL:https://www.strawanzerin.at/termin/biodanza-offener-abend-kurs-5-abende/2017-02-21/
CATEGORIES:ab 7,Deutsch,Kunst/Kultur,Tanz,Wien
ATTACH;FMTTYPE=image/jpeg:https://www.strawanzerin.at/wp-content/uploads/2017/02/biodanza-logo-A9830B1876-seeklogo.com_.jpg
END:VEVENT
END:VCALENDAR