BEGIN:VCALENDAR
VERSION:2.0
PRODID:-//STRAWANZERIN - ECPv4.9.5//NONSGML v1.0//EN
CALSCALE:GREGORIAN
METHOD:PUBLISH
X-WR-CALNAME:STRAWANZERIN
X-ORIGINAL-URL:https://www.strawanzerin.at
X-WR-CALDESC:Veranstaltungen im STRAWANZERIN
BEGIN:VTIMEZONE
TZID:"Europe/Paris"
BEGIN:DAYLIGHT
TZOFFSETFROM:+0100
TZOFFSETTO:+0200
TZNAME:CEST
DTSTART:20150329T010000
END:DAYLIGHT
BEGIN:STANDARD
TZOFFSETFROM:+0200
TZOFFSETTO:+0100
TZNAME:CET
DTSTART:20151025T010000
END:STANDARD
END:VTIMEZONE
BEGIN:VEVENT
DTSTART;TZID="Europe/Paris":20150611T200000
DTEND;TZID="Europe/Paris":20150611T200000
DTSTAMP:20260422T090013
CREATED:20150422T185712Z
LAST-MODIFIED:20150429T080348Z
UID:14201-1434052800-1434052800@www.strawanzerin.at
SUMMARY:BIRGIT DENK & WIENER TSCHUSCHENKAPELLE EINTRITT FREI!
DESCRIPTION:2014 feierte die Wiener Tschuschenkapelle um Bandleader und Sänger Slavko Ninić ihr 25(!)jähriges Jubiläum.\nIn der SiMM City trifft das einzigartige Ethno/Weltmusik-Projekt auf die Ausnahme- Künstlerin\, Moderatorin und Sängerin Birgit Denk mit ihrer grandiosen Band.\nEin ebenso außergewöhnlicher wie heißer Konzertabend mit weiteren Gästen steht bevor.\nDer Eintritt ist frei!\nhttp://www.bdenk.at \,\nhttp://www.facebook.com/birgit.denk\nhttp://www.tschuschenkapelle.at\,\nhttp://www.facebook.com/tschuschenkapelle \n
URL:https://www.strawanzerin.at/termin/birgit-denk-wiener-tschuschenkapelle-eintritt-frei/
LOCATION:Österreich
CATEGORIES:Deutsch,Gratis,Kunst/Kultur,Musik,Wien
ATTACH;FMTTYPE=:
ORGANIZER;CN="Unnamed%20Organizer":MAILTO:promotion@simmcity.at
END:VEVENT
END:VCALENDAR