BEGIN:VCALENDAR
VERSION:2.0
PRODID:-//STRAWANZERIN - ECPv4.9.5//NONSGML v1.0//EN
CALSCALE:GREGORIAN
METHOD:PUBLISH
X-WR-CALNAME:STRAWANZERIN
X-ORIGINAL-URL:https://www.strawanzerin.at
X-WR-CALDESC:Veranstaltungen im STRAWANZERIN
BEGIN:VTIMEZONE
TZID:"Europe/Helsinki"
BEGIN:DAYLIGHT
TZOFFSETFROM:+0200
TZOFFSETTO:+0300
TZNAME:EEST
DTSTART:20150329T010000
END:DAYLIGHT
BEGIN:STANDARD
TZOFFSETFROM:+0300
TZOFFSETTO:+0200
TZNAME:EET
DTSTART:20151025T010000
END:STANDARD
END:VTIMEZONE
BEGIN:VEVENT
DTSTART;TZID="Europe/Helsinki":20150413T190000
DTEND;TZID="Europe/Helsinki":20150413T201000
DTSTAMP:20260422T155417
CREATED:20150409T200503Z
LAST-MODIFIED:20150413T163345Z
UID:12833-1428951600-1428955800@www.strawanzerin.at
SUMMARY:BITTE SCHAU NICHT WEG! – MUTTERTAG KRITISCH BETRACHTET\, Lesung aus dem Buch STUMMER AUFSCHREI mit Texten gegen das Wegsehen bei Missbrauch und Gewalt
DESCRIPTION:Lesung aus dem Buch STUMMER AUFSCHREI mit Michael Dangl und Elke Hagen am Montag\, den 13. 4. um 19 Uhr im Bezirksmuseum Josefstadt\, Schmidgasse 18. Markus Schmölz begleitet am Cello. Die Veranstaltung trägt den Titel BITTE SCHAU NICHT WEG! – MUTTERTAG KRITISCH BETRACHTET \n
URL:https://www.strawanzerin.at/termin/bitte-schau-nicht-weg-muttertag-kritisch-betrachtet-lesung-aus-dem-buch-stummer-aufschrei-mit-texten-gegen-das-wegsehen-bei-missbrauch-und-gewalt/
LOCATION:Österreich
ATTACH;FMTTYPE=:
ORGANIZER;CN="VHS":MAILTO:info@vhs.at
END:VEVENT
END:VCALENDAR