BEGIN:VCALENDAR
VERSION:2.0
PRODID:-//STRAWANZERIN - ECPv4.9.5//NONSGML v1.0//EN
CALSCALE:GREGORIAN
METHOD:PUBLISH
X-WR-CALNAME:STRAWANZERIN
X-ORIGINAL-URL:https://www.strawanzerin.at
X-WR-CALDESC:Veranstaltungen im STRAWANZERIN
BEGIN:VTIMEZONE
TZID:"Europe/Helsinki"
BEGIN:DAYLIGHT
TZOFFSETFROM:+0200
TZOFFSETTO:+0300
TZNAME:EEST
DTSTART:20160327T010000
END:DAYLIGHT
BEGIN:STANDARD
TZOFFSETFROM:+0300
TZOFFSETTO:+0200
TZNAME:EET
DTSTART:20161030T010000
END:STANDARD
END:VTIMEZONE
BEGIN:VEVENT
DTSTART;TZID="Europe/Helsinki":20160306T120000
DTEND;TZID="Europe/Helsinki":20160311T190000
DTSTAMP:20260420T172441
CREATED:20160205T120304Z
LAST-MODIFIED:20160205T120304Z
UID:24323-1457265600-1457722800@www.strawanzerin.at
SUMMARY:„BLACK & COLOUR“
DESCRIPTION:präsentiert Sabine Schilcher-Asen bei einer Vernissage mit Brunch am Sonntag\, 6. März 2016 um 12 Uhr und mit am Saxophon\, Ingo Herzmaier in der „Galerie Sandpeck Wien 8“ Florianigasse 75\, Ecke Uhlplatz. Ausstellung bis 11. März täglich von 14-19Uhr\nDie freischaffende Künstlerin aus Graz inspiriert durch Musik\, gestaltet Sabine-Schilcher-Asen moderne Bilder in Acryl auf Leinwand. Sie verbindet ihrer kreativen Ausbildungen wie Visagistenausbildung\, teils Maskenbildnerei sowie div. Aquarell- und Zeichenkurse bei bekannten Künstlern. (Aquarell bei Gerlinde Bartelt-Stelzer) Seit ihrer Ausbildung in Klavier und Gesang am Konservatorium Graz ist Musik ein sehr wichtiger Teil in ihrem Leben.\nSie bezeichnet ihre Bilder als „zu Farbe gewordene Töne“. Es entstehen Werke mit kraftvollen Farben\, Ästhetik und Harmonie. Mit ihren Bildern möchte sie Menschen in ihrer Seele berühren\, Ihnen Kraft spenden\, erfreuen und motivieren\, zur Phantasie anregen und ermutigen Träume lebendig werden zu lassen. Einen Traum\, den sich die Künstlerin selbst zur Realität machte ist\, dass sie vor einigen Jahren den sicheren Brotjob als Bankangestellte aufgab\, um sich voll und ganz der Kunst zu widmen.\nSie zeigt ein vielseitiges Repertoire von Werken: kraftvoll strahlende Bilder\, die nach Musik entstehen\, reliefmäßig gestaltete Landschaftsbilder\, Jagdbilder wie auch Sculpturbilder\, die an der Decke montiert besonders beeindruckend sind. Bekannt ist die Künstlerin auch durch ihr „Schilcher-Asen-Herz“.\nIm Hotel Novapark in Graz kann jederzeit die Schilcher-Asen Galerie besucht werden\nmehr: www.emotionpainting.at und mehr www.sandpeck.com \n
URL:https://www.strawanzerin.at/termin/black-colour-4/
LOCATION:Österreich
END:VEVENT
END:VCALENDAR