BEGIN:VCALENDAR
VERSION:2.0
PRODID:-//STRAWANZERIN - ECPv4.9.5//NONSGML v1.0//EN
CALSCALE:GREGORIAN
METHOD:PUBLISH
X-WR-CALNAME:STRAWANZERIN
X-ORIGINAL-URL:https://www.strawanzerin.at
X-WR-CALDESC:Veranstaltungen im STRAWANZERIN
BEGIN:VTIMEZONE
TZID:"Europe/Helsinki"
BEGIN:DAYLIGHT
TZOFFSETFROM:+0200
TZOFFSETTO:+0300
TZNAME:EEST
DTSTART:20160327T010000
END:DAYLIGHT
BEGIN:STANDARD
TZOFFSETFROM:+0300
TZOFFSETTO:+0200
TZNAME:EET
DTSTART:20161030T010000
END:STANDARD
END:VTIMEZONE
BEGIN:VEVENT
DTSTART;TZID="Europe/Helsinki":20160908T230000
DTEND;TZID="Europe/Helsinki":20160908T230000
DTSTAMP:20260421T172415
CREATED:20160908T135032Z
LAST-MODIFIED:20160913T103200Z
UID:32975-1473375600-1473375600@www.strawanzerin.at
SUMMARY:Black Palms Orchestra
DESCRIPTION:Christian Fuchs / Black Palms Orchestra\, © Klaus Pichler \nDas neue Herzprojekt von Musiker Christian Fuchs nennt sich Black Palms Orchestra und entstaubt in ständig wechselnder Besetzung traditionelle Musikstile wie Rock’n’Roll\, Country und Blues mittels elektronischen Sounds und dem musikalischen Potential von immer neuen Mitwirkenden. Inspiriert von Soundtracks aus Serien wie „True Detective“ oder „Twin Peaks“\, begeistert das Black Palms Orchestra so mit düsterem\, energetischem und klarem Sound.  \nChristian Fuchs nimmt Sehnsucht als Schlüsselgefühl und Basis für sein musikalisches Arbeiten. Sehnsucht nicht nur formal und weitab von erdiger Pseudoauthentizität\, sondern auch die Sehnsucht\, frei von starren Bandstrukturen mit fantastischen MusikerInnen und FreundInnen neue Songs entstehen zu lassen. Fuchs\, der früher die Bühnen mit Bands wie Fetish 69\, Bunny Lake und Neigungsgruppe Sex\, Gewalt und Gute Laune unsicher machte\, schafft mit dem Black Palms Orchestra ein neues Universum. Zu diesem gesellen sich neben MusikerInnen wie Ankathie Koi (Fijuka)\, Anna Attar (Monsterheart) und Oliver Welter (Naked Lunch) auch einige der besten FotografenInnen\, VideoregisseureInnen und KünstlerInnen Österreichs. Im brut wird das Black Palms Orchestra sein Debütalbum Sad Moon Rising – einzigartig mit allen am Album mitwirkenden KünstlerInnen –  präsentieren und damit die neue Konzertsaison einläuten. \n
URL:https://www.strawanzerin.at/termin/black-palms-orchestra/
LOCATION:brut im Künstlerhaus\, Karlsplatz 5\, Wien\, 1010\, Österreich
CATEGORIES:Musik
ORGANIZER;CN="brut":MAILTO:info@brut-wien.at
GEO:48.200534;16.3715493
X-APPLE-STRUCTURED-LOCATION;VALUE=URI;X-ADDRESS=brut im Künstlerhaus Karlsplatz 5 Wien 1010 Österreich;X-APPLE-RADIUS=500;X-TITLE=Karlsplatz 5:geo:16.3715493,48.200534
END:VEVENT
END:VCALENDAR