BEGIN:VCALENDAR
VERSION:2.0
PRODID:-//STRAWANZERIN - ECPv4.9.5//NONSGML v1.0//EN
CALSCALE:GREGORIAN
METHOD:PUBLISH
X-WR-CALNAME:STRAWANZERIN
X-ORIGINAL-URL:https://www.strawanzerin.at
X-WR-CALDESC:Veranstaltungen im STRAWANZERIN
BEGIN:VTIMEZONE
TZID:"Europe/Vienna"
BEGIN:DAYLIGHT
TZOFFSETFROM:+0100
TZOFFSETTO:+0200
TZNAME:CEST
DTSTART:20180325T010000
END:DAYLIGHT
BEGIN:STANDARD
TZOFFSETFROM:+0200
TZOFFSETTO:+0100
TZNAME:CET
DTSTART:20181028T010000
END:STANDARD
END:VTIMEZONE
BEGIN:VEVENT
DTSTART;TZID="Europe/Vienna":20180521T200000
DTEND;TZID="Europe/Vienna":20180521T210000
DTSTAMP:20260422T051211
CREATED:20180414T111339Z
LAST-MODIFIED:20180416T114407Z
UID:54346-1526932800-1526936400@www.strawanzerin.at
SUMMARY:Blitzdichtgewitter. Wiens Poetry Jazz Slam meets wean hean
DESCRIPTION:Tesak & Blazek | Bauer.Schläger.Wurf.Berger | Yasmin Hafedh alias Yasmo | Henrik Szanto | Leonie Warnke | Precious | Ksafa \nWienerlied\, Jazz und Poesieschlacht an einem Abend? Ja\, das geht. Sehr gut sogar. Poetry Slam ist ein Format\, bei dem Autoren und Autorinnen gegeneinander in den literarischen Wettstreit treten. Das Publikum entscheidet über Sieg oder Niederlage. Die Moderatorin und Slampoetin Yasmin Hafedh alias Yasmo sorgt gemeinsam mit dem Jazztrio Bauer.Schläger.Wurf.Berger\, den Wienerlied-Vertretern Tesak & Blazek und vier weiteren SprachkünstlerInnen für eine spannungsgeladene Atmosphäre und Begeisterungsstürme beim Publikum. Zwischen Tagträumen und Nachtleben\, Sprachbildern und Lautmalerei entsteht eine neue Begegnung mit Slam\, wie sie allein nur Musik erzeugen kann. \nBild (c) Matthaeus Anton Schmid \n
URL:https://www.strawanzerin.at/termin/blitzdichtgewitter-wiens-poetry-jazz-slam-meets-wean-hean/
LOCATION:Stadtsaal\, Mariahilfer Straße 81\, Wien\, Wien\, 1060\, Österreich
CATEGORIES:Kunst/Kultur,Literatur,Musik
ATTACH;FMTTYPE=image/jpeg:https://www.strawanzerin.at/wp-content/uploads/2018/04/11_Blitzdichtgewitter_c_MatthaeusAntonSchmid-1.jpg
ORGANIZER;CN="Wiener%20Volksliedwerk":MAILTO:office@wvlw.at
GEO:48.1976905;16.3492911
X-APPLE-STRUCTURED-LOCATION;VALUE=URI;X-ADDRESS=Stadtsaal Mariahilfer Straße 81 Wien Wien 1060 Österreich;X-APPLE-RADIUS=500;X-TITLE=Mariahilfer Straße 81:geo:16.3492911,48.1976905
END:VEVENT
END:VCALENDAR