BEGIN:VCALENDAR
VERSION:2.0
PRODID:-//STRAWANZERIN - ECPv4.9.5//NONSGML v1.0//EN
CALSCALE:GREGORIAN
METHOD:PUBLISH
X-WR-CALNAME:STRAWANZERIN
X-ORIGINAL-URL:https://www.strawanzerin.at
X-WR-CALDESC:Veranstaltungen im STRAWANZERIN
BEGIN:VTIMEZONE
TZID:"Europe/Vienna"
BEGIN:DAYLIGHT
TZOFFSETFROM:+0100
TZOFFSETTO:+0200
TZNAME:CEST
DTSTART:20240331T010000
END:DAYLIGHT
BEGIN:STANDARD
TZOFFSETFROM:+0200
TZOFFSETTO:+0100
TZNAME:CET
DTSTART:20241027T010000
END:STANDARD
END:VTIMEZONE
BEGIN:VEVENT
DTSTART;TZID="Europe/Vienna":20240610T180000
DTEND;TZID="Europe/Vienna":20240610T193000
DTSTAMP:20260421T025635
CREATED:20240521T102846Z
LAST-MODIFIED:20240521T102846Z
UID:99329-1718042400-1718047800@www.strawanzerin.at
SUMMARY:Blumen für Wien
DESCRIPTION:TANZPERFORMANCE Im Rahmen des WIR SIND WIEN.FESTIVAL 2024 \n13 Pionierinnen blühen auf. Im Kurpark Oberlaa überwuchern sie brüchige Betonflächen\, schaffen mit Körperornamenten flüchtige Blumenarrangements und bringen den verstummten Konzertgarten nicht nur optisch zum Klingen. Die Tänzerinnen komponieren sich in Brunnenlandschaften und lassen den Kreislauf der Natur im Zeitraffer ablaufen. Im Vorbeigehen erobern sie sich in die Jahre gekommene Kunstwerke der internationalen Gartenschau 1974 und nehmen ihr Publikum mit auf eine Zeitreise: Die Tanzperformance wirft einen schmunzelnden\, kritisch-feministischen Blick auf Wegweisendes aus der Vergangenheit\, bringt damalige Space Age Fantasien zum\nPlatzen und geht der Frage nach\, welche Samen es heute braucht\, um einen gemeinsamen Lebensraum zu gestalten. \n
URL:https://www.strawanzerin.at/termin/blumen-fuer-wien/
LOCATION:Kurpark Oberlaa\, Kurbadstraße 12\, Wien\, Wien\, 1100\, Österreich
CATEGORIES:Gratis,Tanz
ATTACH;FMTTYPE=image/jpeg:https://www.strawanzerin.at/wp-content/uploads/2024/05/Flyer_Blumen4Wien_A6_1.jpg
ORGANIZER;CN="salon%20emmer%20-%20Verein%20f%C3%BCr%20Kunst%20und%20Kultur":MAILTO:l.lengheimer@gmail.com
END:VEVENT
END:VCALENDAR