BEGIN:VCALENDAR
VERSION:2.0
PRODID:-//STRAWANZERIN - ECPv4.9.5//NONSGML v1.0//EN
CALSCALE:GREGORIAN
METHOD:PUBLISH
X-WR-CALNAME:STRAWANZERIN
X-ORIGINAL-URL:https://www.strawanzerin.at
X-WR-CALDESC:Veranstaltungen im STRAWANZERIN
BEGIN:VTIMEZONE
TZID:"Europe/Vienna"
BEGIN:DAYLIGHT
TZOFFSETFROM:+0100
TZOFFSETTO:+0200
TZNAME:CEST
DTSTART:20210328T010000
END:DAYLIGHT
BEGIN:STANDARD
TZOFFSETFROM:+0200
TZOFFSETTO:+0100
TZNAME:CET
DTSTART:20211031T010000
END:STANDARD
END:VTIMEZONE
BEGIN:VEVENT
DTSTART;TZID="Europe/Vienna":20210316T190000
DTEND;TZID="Europe/Vienna":20210316T200000
DTSTAMP:20260420T212917
CREATED:20210225T083510Z
LAST-MODIFIED:20210304T095002Z
UID:76453-1615921200-1615924800@www.strawanzerin.at
SUMMARY:Boden für Alle - Kuratorinnenführung
DESCRIPTION:Di 16.03.2021\, 19:00-20:00\nMit den Kuratorinnen Katharina Ritter und Karoline Mayer.\nDie Führung wird online via zoom stattfinden. Hier geht’s zum Link!\nhttps://www.azw.at/de/termin/boden-fuer-alle-6/2021-03-16/ \nDie Oberfläche der Erde ist endlich und Boden unser kostbarstes Gut. Ein sorgloser oder ein kapitalgetriebener Umgang mit dieser Ressource hat in den vergangenen Jahrzehnten Gestalt und Funktion unserer Städte und Dörfer massiv verändert. Angesichts der drohenden Klimakatastrophe und steigender Wohnungspreise stellt sich die Frage\, ob der bisherige Weg mit maximalen Kompromissen und minimalen Anpassungen noch tragbar ist. Wo bleibt eine weitreichende und mutige Bodenpolitik? \n
URL:https://www.strawanzerin.at/termin/boden-fuer-alle-kuratorinnenfuehrung/
LOCATION:Architekturzentrum Wien\, Museumsplatz 1\, 1070 Wien\, 1070\, Österreich
CATEGORIES:Ausstellung
ATTACH;FMTTYPE=image/jpeg:https://www.strawanzerin.at/wp-content/uploads/2021/02/klein_Boden-für-Alle_6528-Kopie.jpg
GEO:48.2026499;16.3591421
X-APPLE-STRUCTURED-LOCATION;VALUE=URI;X-ADDRESS=Architekturzentrum Wien Museumsplatz 1 1070 Wien 1070 Österreich;X-APPLE-RADIUS=500;X-TITLE=Museumsplatz 1:geo:16.3591421,48.2026499
END:VEVENT
END:VCALENDAR