BEGIN:VCALENDAR
VERSION:2.0
PRODID:-//STRAWANZERIN - ECPv4.9.5//NONSGML v1.0//EN
CALSCALE:GREGORIAN
METHOD:PUBLISH
X-WR-CALNAME:STRAWANZERIN
X-ORIGINAL-URL:https://www.strawanzerin.at
X-WR-CALDESC:Veranstaltungen im STRAWANZERIN
BEGIN:VTIMEZONE
TZID:"Europe/Vienna"
BEGIN:DAYLIGHT
TZOFFSETFROM:+0100
TZOFFSETTO:+0200
TZNAME:CEST
DTSTART:20240331T010000
END:DAYLIGHT
BEGIN:STANDARD
TZOFFSETFROM:+0200
TZOFFSETTO:+0100
TZNAME:CET
DTSTART:20241027T010000
END:STANDARD
END:VTIMEZONE
BEGIN:VEVENT
DTSTART;TZID="Europe/Vienna":20240413T190000
DTEND;TZID="Europe/Vienna":20240413T210000
DTSTAMP:20260421T191156
CREATED:20231219T164401Z
LAST-MODIFIED:20231219T164401Z
UID:95859-1713034800-1713042000@www.strawanzerin.at
SUMMARY:BÖS - Literatursalon am 13.04.2024
DESCRIPTION:BÖS Berufsverband österreichischer Schriftsteller:Innen lädt zum Literatursalon ein: \nLiteratursalon 13.04.2024\nLesungen:\nKatharina Godler\nBarbara Rieger & Alain Barbero\nPeter Bosch (Video) \nModeration: Brigitta Höpler\nAusstellung: Alain Barbero “Café Entropy” \nBÖS-Atelier: Vivenotgasse 30/2/2\n1120 Wien\nU6 Station Niederhofstraße\, Aufgang Reschgasse \n
URL:https://www.strawanzerin.at/termin/boes-literatursalon-am-13-04-2024/
LOCATION:BÖS-Atelier\, Vivenotgasse 30/ 2.2\, 1120 Wien\, Wien\, 1120\, Österreich
CATEGORIES:Gratis,Literatur,Wien
ORGANIZER;CN="B%C3%96S-Berufsverband%20%C3%96sterreichischer%20Schreibp%C3%A4dagogInnen":MAILTO:hannah.sideris@boesmail.at
GEO:48.1806775;16.3309428
X-APPLE-STRUCTURED-LOCATION;VALUE=URI;X-ADDRESS=BÖS-Atelier Vivenotgasse 30/ 2.2 1120 Wien Wien 1120 Österreich;X-APPLE-RADIUS=500;X-TITLE=Vivenotgasse 30/ 2.2:geo:16.3309428,48.1806775
END:VEVENT
END:VCALENDAR