BEGIN:VCALENDAR
VERSION:2.0
PRODID:-//STRAWANZERIN - ECPv4.9.5//NONSGML v1.0//EN
CALSCALE:GREGORIAN
METHOD:PUBLISH
X-WR-CALNAME:STRAWANZERIN
X-ORIGINAL-URL:https://www.strawanzerin.at
X-WR-CALDESC:Veranstaltungen im STRAWANZERIN
BEGIN:VTIMEZONE
TZID:"Europe/Helsinki"
BEGIN:DAYLIGHT
TZOFFSETFROM:+0200
TZOFFSETTO:+0300
TZNAME:EEST
DTSTART:20150329T010000
END:DAYLIGHT
BEGIN:STANDARD
TZOFFSETFROM:+0300
TZOFFSETTO:+0200
TZNAME:EET
DTSTART:20151025T010000
END:STANDARD
END:VTIMEZONE
BEGIN:VEVENT
DTSTART;TZID="Europe/Helsinki":20150117T190000
DTEND;TZID="Europe/Helsinki":20150117T220000
DTSTAMP:20260423T160338
CREATED:20150109T150848Z
LAST-MODIFIED:20150120T113328Z
UID:10760-1421521200-1421532000@www.strawanzerin.at
SUMMARY:Boku-Chor: Missa Criolla y caramba!
DESCRIPTION:Der Boku-Chor auf geistlichen und weltlichen Wegen durch Südamerika. Von Weihnachten bis Karneval.\nEintritt: 10€ Ermäßigt\, 15€ Normalpreis\, Freier Eintritt für KulturpassbesitzerInnen \n
URL:https://www.strawanzerin.at/termin/boku-chor-missa-criolla-y-caramba/
LOCATION:Jugendkirche Wien\, Wiedner Hauptstraße 97\, Wien\, Wien\, 1050\, Österreich
CATEGORIES:Deutsch,Eintrittspreis,Kunst/Kultur,Musik,Wien
ATTACH;FMTTYPE=image/jpeg:https://www.strawanzerin.at/wp-content/uploads/2015/01/BOKUCHOR_misa-criolla-Y-CARAMBA_hp.jpg
ORGANIZER;CN="Chor%20der%20Universit%C3%A4t%20f%C3%BCr%20Bodenkultur":MAILTO:bokuchor@boku.ac.at
GEO:48.1859601;16.3634052
X-APPLE-STRUCTURED-LOCATION;VALUE=URI;X-ADDRESS=Jugendkirche Wien Wiedner Hauptstraße 97 Wien Wien 1050 Österreich;X-APPLE-RADIUS=500;X-TITLE=Wiedner Hauptstraße 97:geo:16.3634052,48.1859601
END:VEVENT
END:VCALENDAR