BEGIN:VCALENDAR
VERSION:2.0
PRODID:-//STRAWANZERIN - ECPv4.9.5//NONSGML v1.0//EN
CALSCALE:GREGORIAN
METHOD:PUBLISH
X-WR-CALNAME:STRAWANZERIN
X-ORIGINAL-URL:https://www.strawanzerin.at
X-WR-CALDESC:Veranstaltungen im STRAWANZERIN
BEGIN:VTIMEZONE
TZID:"Europe/Vienna"
BEGIN:DAYLIGHT
TZOFFSETFROM:+0100
TZOFFSETTO:+0200
TZNAME:CEST
DTSTART:20170326T010000
END:DAYLIGHT
BEGIN:STANDARD
TZOFFSETFROM:+0200
TZOFFSETTO:+0100
TZNAME:CET
DTSTART:20171029T010000
END:STANDARD
END:VTIMEZONE
BEGIN:VEVENT
DTSTART;TZID="Europe/Vienna":20171125T150000
DTEND;TZID="Europe/Vienna":20171125T163000
DTSTAMP:20260421T122529
CREATED:20171118T151720Z
LAST-MODIFIED:20171123T142905Z
UID:49702-1511622000-1511627400@www.strawanzerin.at
SUMMARY:Brauner Bär\, Vielfrass und die Himmelsleiter -  Märchen und Mythen der Urvölker Nordamerikas
DESCRIPTION: Für Gross und Klein ab 5 Jahren. \nDauer: 45 Minuten\nNach der Erzählzeit kann jedes Kind sein eigenes Amulett basteln. \n Wie kam die Spinne zu ihrem Spinnennetz? Was ist an dem Tag passiert\, als die Tiere beschlossen\, in den Himmel zu klettern? Wie wurde «kleinstes Mädchen» zur geschicktesten Jägerin? Wie sieht die Sehne des Pfeilbogens vom unsichtbaren Jäger aus? Und was ist der Ursprung aller Geschichten? Dies und vieles mehr kannst Du in dieser Geschichtenzeit hören. \nDie Märchen von Tieren und Pflanzen\, von Sternen und von den vier Elementen erzählen von Gemeinschaft\, von Begegnung mit Helfern aus der jenseitigen Welt und von spannenden Abenteuern indianischer Kinder. \nDie Erzählerin Brigit Oplatka ist Absolventin des CAS Figurenspiel an der Hochschule der Künste in Zürich sowie der Favola- Erzählausbildung in Winterthur. Sie ist dipl. Figurenspieltherapeutin (psychotherapeutisch orientierte Spiel- und Kunsttherapie) mit eigener Praxis in Winterthur und Dozentin an der höheren Fachschule für Figurenspieltherapie in Olten. Aus langjähriger Erfahrung als Erzählerin schöpft sie aus einem reichhaltigen Erzählrepertoire für Kinder und Erwachsene. \nwww.poesietheater.com   \n
URL:https://www.strawanzerin.at/termin/brauner-baer-vielfrass-und-die-himmelsleiter-maerchen-und-mythen-der-urvoelker-nordamerikas/
LOCATION:Theater Olé  – Clown- \, Komik- und Varietétheater\, Barmherzigengasse 18\, Wien\, Wien\, 1030\, Österreich
CATEGORIES:ab 7,Deutsch,Kinderkultur,Wien
ATTACH;FMTTYPE=image/jpeg:https://www.strawanzerin.at/wp-content/uploads/2017/11/MDU_0579-2.jpg
ORGANIZER;CN="Theater%20Ole-Clown-%20Komik%20-%20und%20Variet%C3%A9theater%20mitten%20in%20Wien":MAILTO:theater-ole@gmx.at
GEO:48.1962173;16.3940663
X-APPLE-STRUCTURED-LOCATION;VALUE=URI;X-ADDRESS=Theater Olé  – Clown-  Komik- und Varietétheater Barmherzigengasse 18 Wien Wien 1030 Österreich;X-APPLE-RADIUS=500;X-TITLE=Barmherzigengasse 18:geo:16.3940663,48.1962173
END:VEVENT
END:VCALENDAR