BEGIN:VCALENDAR
VERSION:2.0
PRODID:-//STRAWANZERIN - ECPv4.9.5//NONSGML v1.0//EN
CALSCALE:GREGORIAN
METHOD:PUBLISH
X-WR-CALNAME:STRAWANZERIN
X-ORIGINAL-URL:https://www.strawanzerin.at
X-WR-CALDESC:Veranstaltungen im STRAWANZERIN
BEGIN:VTIMEZONE
TZID:"Europe/Vienna"
BEGIN:DAYLIGHT
TZOFFSETFROM:+0100
TZOFFSETTO:+0200
TZNAME:CEST
DTSTART:20180325T010000
END:DAYLIGHT
BEGIN:STANDARD
TZOFFSETFROM:+0200
TZOFFSETTO:+0100
TZNAME:CET
DTSTART:20181028T010000
END:STANDARD
END:VTIMEZONE
BEGIN:VEVENT
DTSTART;TZID="Europe/Vienna":20180129T110000
DTEND;TZID="Europe/Vienna":20180202T140000
DTSTAMP:20260424T182438
CREATED:20180109T143803Z
LAST-MODIFIED:20180129T100812Z
UID:51322-1517223600-1517580000@www.strawanzerin.at
SUMMARY:Bravo Girl - weil ich ein Mädchen bin
DESCRIPTION:Sitzen wie ein Mädchen*\, laufen wie ein Mädchen*\, kichern wie ein Mädchen*. \nWas wird Mädchen* heutzutage suggeriert und wie sehen sie sich selbst? \nAktuelle feministische Fragen und Denkanstöße verpackt in ein Theaterstück für Boys and Girls. \nEine fetzige\, musikalische Performance für Teenager ab 13 Jahren. \nVormittagsvorstellungen (Stand 29.1.)\n29.1.2018 11:00 AUSVERKAUFT\n30.1.2018 Rahmenzeiten 11-14:00\n31.1.2018 11:00 AUSVERKAUFT\n31.1.2018 13:00 AUSVERKAUFT\n1.2.2018 12:30 AUSVERKAUFT\n2.2.2018\, 11-14 Uhr Rahmenzeiten \n
URL:https://www.strawanzerin.at/termin/bravo-girl-weil-ich-ein-maedchen-bin/
LOCATION:Theater Drachengasse\, Drachengasse 2\, Wien\, Wien\, 1010 \, Österreich
ATTACH;FMTTYPE=image/jpeg:https://www.strawanzerin.at/wp-content/uploads/2018/01/Bravo-Girl.jpg
GEO:48.2101317;16.3778954
X-APPLE-STRUCTURED-LOCATION;VALUE=URI;X-ADDRESS=Theater Drachengasse Drachengasse 2 Wien Wien 1010  Österreich;X-APPLE-RADIUS=500;X-TITLE=Drachengasse 2:geo:16.3778954,48.2101317
END:VEVENT
END:VCALENDAR