BEGIN:VCALENDAR
VERSION:2.0
PRODID:-//STRAWANZERIN - ECPv4.9.5//NONSGML v1.0//EN
CALSCALE:GREGORIAN
METHOD:PUBLISH
X-WR-CALNAME:STRAWANZERIN
X-ORIGINAL-URL:https://www.strawanzerin.at
X-WR-CALDESC:Veranstaltungen im STRAWANZERIN
BEGIN:VTIMEZONE
TZID:"Europe/Helsinki"
BEGIN:DAYLIGHT
TZOFFSETFROM:+0200
TZOFFSETTO:+0300
TZNAME:EEST
DTSTART:20150329T010000
END:DAYLIGHT
BEGIN:STANDARD
TZOFFSETFROM:+0300
TZOFFSETTO:+0200
TZNAME:EET
DTSTART:20151025T010000
END:STANDARD
END:VTIMEZONE
BEGIN:VEVENT
DTSTART;TZID="Europe/Helsinki":20150406T181000
DTEND;TZID="Europe/Helsinki":20150406T181500
DTSTAMP:20260423T193004
CREATED:20150406T161739Z
LAST-MODIFIED:20150413T162347Z
UID:12797-1428343800-1428344100@www.strawanzerin.at
SUMMARY:BrfbprBmbjhHIPSKA
DESCRIPTION:CKlY0P  waaoqbukceee\, [url=http://jtbtqzjrtgwf.com/]jtbtqzjrtgwf[/url]\, [link=http://eixwentuslae.com/]eixwentuslae[/link]\, http://qhhkeazonded.com/ \n
URL:https://www.strawanzerin.at/termin/brfbprbmbjhhipska/
CATEGORIES:ab 7,Antifaschismus,Deutsch,Film,Niederösterreich
ORGANIZER;CN="Caf%C3%A9%20Entropy":MAILTO:cafe@entropy.at
END:VEVENT
END:VCALENDAR