BEGIN:VCALENDAR
VERSION:2.0
PRODID:-//STRAWANZERIN - ECPv4.9.5//NONSGML v1.0//EN
CALSCALE:GREGORIAN
METHOD:PUBLISH
X-WR-CALNAME:STRAWANZERIN
X-ORIGINAL-URL:https://www.strawanzerin.at
X-WR-CALDESC:Veranstaltungen im STRAWANZERIN
BEGIN:VTIMEZONE
TZID:"Europe/Vienna"
BEGIN:DAYLIGHT
TZOFFSETFROM:+0100
TZOFFSETTO:+0200
TZNAME:CEST
DTSTART:20180325T010000
END:DAYLIGHT
BEGIN:STANDARD
TZOFFSETFROM:+0200
TZOFFSETTO:+0100
TZNAME:CET
DTSTART:20181028T010000
END:STANDARD
END:VTIMEZONE
BEGIN:VEVENT
DTSTART;TZID="Europe/Vienna":20180606T183000
DTEND;TZID="Europe/Vienna":20180606T200000
DTSTAMP:20260421T042516
CREATED:20180502T072432Z
LAST-MODIFIED:20180503T071806Z
UID:55260-1528309800-1528315200@www.strawanzerin.at
SUMMARY:Briefe aus Grado 1900-1912
DESCRIPTION:Zeitgeist Vienna lädt zu literarischer Zeitreise an die Österreichische Riviera  \nMan möchte meinen\, über Grado sei alles gesagt. Bis man am Mittwoch\, 6. Juni\, um 18.30 Uhr im Hotel Zeitgeist Vienna erfahren hat\, was Emma Auchentaller vor mehr als 100 Jahren aus Grado an ihre Eltern schrieb. Die Ehefrau des Künstlers Josef Maria Auchentaller trug als Betreiberin des Hotels Fortino maßgeblich zu den Goldenen Jahren der Lagunenstadt zwischen 1900 und 1912 bei. In ihrem neuen Buch »Briefe aus Grado« (Braitan Verlag) lässt Herausgeberin Christine Casapicola die mutige Unternehmerin von einst zu Wort kommen und erklärt\, weshalb Grados Herz bis heute in Österreich schlägt. Der Eintritt ist frei. \nBild: Buchumschlag »Briefe aus Grado 1900 bis 1912 – Emma Auchentaller«\, Foto/©: www.braitan.at \n
URL:https://www.strawanzerin.at/termin/briefe-aus-grado-1900-1912/
LOCATION:Hotel ZEITGEIST Vienna\, Sonnwendgasse 15\, Wien\, Wien\, 1100\, Österreich
CATEGORIES:Gratis,Literatur,Wien
ATTACH;FMTTYPE=image/jpeg:https://www.strawanzerin.at/wp-content/uploads/2018/05/BuchGrado.jpg
GEO:48.1822922;16.3783348
X-APPLE-STRUCTURED-LOCATION;VALUE=URI;X-ADDRESS=Hotel ZEITGEIST Vienna Sonnwendgasse 15 Wien Wien 1100 Österreich;X-APPLE-RADIUS=500;X-TITLE=Sonnwendgasse 15:geo:16.3783348,48.1822922
END:VEVENT
END:VCALENDAR