BEGIN:VCALENDAR
VERSION:2.0
PRODID:-//STRAWANZERIN - ECPv4.9.5//NONSGML v1.0//EN
CALSCALE:GREGORIAN
METHOD:PUBLISH
X-WR-CALNAME:STRAWANZERIN
X-ORIGINAL-URL:https://www.strawanzerin.at
X-WR-CALDESC:Veranstaltungen im STRAWANZERIN
BEGIN:VTIMEZONE
TZID:"Europe/Helsinki"
BEGIN:DAYLIGHT
TZOFFSETFROM:+0200
TZOFFSETTO:+0300
TZNAME:EEST
DTSTART:20170326T010000
END:DAYLIGHT
BEGIN:STANDARD
TZOFFSETFROM:+0300
TZOFFSETTO:+0200
TZNAME:EET
DTSTART:20171029T010000
END:STANDARD
END:VTIMEZONE
BEGIN:VEVENT
DTSTART;TZID="Europe/Helsinki":20170123T180000
DTEND;TZID="Europe/Helsinki":20170123T220000
DTSTAMP:20260423T141700
CREATED:20161130T102823Z
LAST-MODIFIED:20161130T153155Z
UID:37533-1485194400-1485208800@www.strawanzerin.at
SUMMARY:Bring your own booze
DESCRIPTION:Ein offener\, monatlicher Stammtisch in der brut-Küche schafft eine Plattform für Gespräche und persönliches Kennenlernen. Eingeladen sind alle\, von KünstlerInnen und KollegInnen über Publikum\, und brut-Neulinge bis zu benachbarten Institutionen vom Karlsplatz und aus der Stadt. Jeweils wechselnde KöchInnen aus dem brut spannen die Gäste beim gemeinsamen Kochen ein\, und es bleibt ausreichend Zeit\, sich persönlich kennenzulernen und zu plaudern – sei es über Kochrezepte\, Zahnarztempfehlungen oder Ideen für die nächste Performance. Und richtig: Getränke bringen alle Gäste selbst mit! \n
URL:https://www.strawanzerin.at/termin/bring-your-own-booze-3/
LOCATION:brut im Künstlerhaus\, Karlsplatz 5\, Wien\, 1010\, Österreich
CATEGORIES:Essen/Vokü,Gratis,Kunst/Kultur,Wien
ATTACH;FMTTYPE=image/jpeg:https://www.strawanzerin.at/wp-content/uploads/2016/11/Foto-2_Websmall-1.jpg
ORGANIZER;CN="brut":MAILTO:info@brut-wien.at
GEO:48.200534;16.3715493
X-APPLE-STRUCTURED-LOCATION;VALUE=URI;X-ADDRESS=brut im Künstlerhaus Karlsplatz 5 Wien 1010 Österreich;X-APPLE-RADIUS=500;X-TITLE=Karlsplatz 5:geo:16.3715493,48.200534
END:VEVENT
END:VCALENDAR