BEGIN:VCALENDAR
VERSION:2.0
PRODID:-//STRAWANZERIN - ECPv4.9.5//NONSGML v1.0//EN
CALSCALE:GREGORIAN
METHOD:PUBLISH
X-WR-CALNAME:STRAWANZERIN
X-ORIGINAL-URL:https://www.strawanzerin.at
X-WR-CALDESC:Veranstaltungen im STRAWANZERIN
BEGIN:VTIMEZONE
TZID:"Europe/Helsinki"
BEGIN:DAYLIGHT
TZOFFSETFROM:+0200
TZOFFSETTO:+0300
TZNAME:EEST
DTSTART:20160327T010000
END:DAYLIGHT
BEGIN:STANDARD
TZOFFSETFROM:+0300
TZOFFSETTO:+0200
TZNAME:EET
DTSTART:20161030T010000
END:STANDARD
END:VTIMEZONE
BEGIN:VEVENT
DTSTART;TZID="Europe/Helsinki":20160411T180000
DTEND;TZID="Europe/Helsinki":20160411T180000
DTSTAMP:20260420T074648
CREATED:20160321T134036Z
LAST-MODIFIED:20160322T095705Z
UID:25646-1460397600-1460397600@www.strawanzerin.at
SUMMARY:Bring your own booze Der regelmäßige Küchen-Stammtisch im brut
DESCRIPTION:Ein offener\, monatlicher Stammtisch in der brut-Küche schafft eine Plattform für Gespräche und persönliches Kennenlernen. Eingeladen sind alle\, von KünstlerInnen und KollegInnen über Publikum\, und brut-Neulinge bis zu benachbarten Institutionen vom Karlsplatz und aus der Stadt. Jeweils wechselnde KöchInnen aus dem brut spannen die Gäste beim gemeinsamen Kochen ein\, und es bleibt ausreichend Zeit\, sich persönlich kennenzulernen und zu plaudern – sei es über Kochrezepte\, Zahnarztempfehlungen oder Ideen für die nächste Performance. Und richtig: Getränke bringen alle Gäste selbst mit! \nMit den brut Extras startet brut eine Serie unterschiedlicher Veranstaltungen\, die neue Einblicke in künstlerische Prozesse ermöglichen und Raum für Gespräch und Feedback geben. Für Publikum\, KollegInnen\, NachbarInnen am Karlsplatz und Menschen in der Stadt wird brut offener und nahbarer\, es werden Dialoge und Begegnungen ermöglicht und neue Formate erprobt\, und auch der eigene Standpunkt wird immer wieder infrage gestellt. Bei den brut Extras geht es nicht darum\, fertige Ergebnisse zu präsentieren\, sondern darum\, dem Publikum Einblick in Schaffensprozesse zu gewähren und so neue Formen des Austauschs zu ermöglichen. \nUm Anmeldung unter tickets@brut-wien.at wird gebeten. \n
URL:https://www.strawanzerin.at/termin/bring-your-own-booze-der-regelmaessige-kuechen-stammtisch-im-brut-4/
CATEGORIES:Gratis,Treffen,Wien
ATTACH;FMTTYPE=image/jpeg:https://www.strawanzerin.at/wp-content/uploads/2016/03/Foto-2_Websmall.jpg
ORGANIZER;CN="brut":MAILTO:info@brut-wien.at
END:VEVENT
END:VCALENDAR