BEGIN:VCALENDAR
VERSION:2.0
PRODID:-//STRAWANZERIN - ECPv4.9.5//NONSGML v1.0//EN
CALSCALE:GREGORIAN
METHOD:PUBLISH
X-WR-CALNAME:STRAWANZERIN
X-ORIGINAL-URL:https://www.strawanzerin.at
X-WR-CALDESC:Veranstaltungen im STRAWANZERIN
BEGIN:VTIMEZONE
TZID:"Europe/Helsinki"
BEGIN:DAYLIGHT
TZOFFSETFROM:+0200
TZOFFSETTO:+0300
TZNAME:EEST
DTSTART:20140330T010000
END:DAYLIGHT
BEGIN:STANDARD
TZOFFSETFROM:+0300
TZOFFSETTO:+0200
TZNAME:EET
DTSTART:20141026T010000
END:STANDARD
END:VTIMEZONE
BEGIN:VEVENT
DTSTART;TZID="Europe/Helsinki":20141118T190000
DTEND;TZID="Europe/Helsinki":20141118T210000
DTSTAMP:20260421T022551
CREATED:20141022T120252Z
LAST-MODIFIED:20141029T144402Z
UID:8251-1416337200-1416344400@www.strawanzerin.at
SUMMARY:Buchpräsentation: Antimuslimischer Rassismus
DESCRIPTION:Es wird höchste Zeit darüber zu reden und nachzudenken\, deshalb veranstaltet die KPÖ eine Buchpräsentation: Antimuslimischer Rassismus mit Fanny Müller-Uri \nAls höchst polarisierendes Phänomen entpuppt sich antimuslimischer Rassismus in der Politik\, in den Medien\, in gesellschaftlichen Diskursen wie auch in der Forschung. Spätestens seit den 1990er Jahren\, und noch einmal verstärkt seit dem 11.September 2001\, werden integrations-\, migrations- und sicherheitspolitische Themen mit MuslimInnen und »dem Islam« in Verbindung gebracht.  Während in Debatten rund um Kopftuch\, Moscheen und Demokratiedefizite alte und neue rassistische Stereotype und Argumentationsfiguren alltäglich geworden sind\, scheint die antirassistische Bewegung gelähmt.  Das vorliegende INTRO trägt dazu bei\, antimuslimischen Rassismus theoretisch zu verorten und eine emanzipatorische Diskussionsgrundlage für die antirassistische Praxis ¬anzubieten.  \nFanny Müller-Uri: Antimuslimischer Rassismus. Mandelbaum 2014 \n
URL:https://www.strawanzerin.at/termin/buchpraesentation-antimuslimischer-rassismus-2/
LOCATION:Café Siebenstern\, Siebensterngasse 31 \, Wien\, 1070\, Österreich
CATEGORIES:Antirassimus,Deutsch,Gratis,Vortrag/Symposium,Wien
GEO:48.2019795;16.3515078
X-APPLE-STRUCTURED-LOCATION;VALUE=URI;X-ADDRESS=Café Siebenstern Siebensterngasse 31  Wien 1070 Österreich;X-APPLE-RADIUS=500;X-TITLE=Siebensterngasse 31:geo:16.3515078,48.2019795
END:VEVENT
END:VCALENDAR