BEGIN:VCALENDAR
VERSION:2.0
PRODID:-//STRAWANZERIN - ECPv4.9.5//NONSGML v1.0//EN
CALSCALE:GREGORIAN
METHOD:PUBLISH
X-WR-CALNAME:STRAWANZERIN
X-ORIGINAL-URL:https://www.strawanzerin.at
X-WR-CALDESC:Veranstaltungen im STRAWANZERIN
BEGIN:VTIMEZONE
TZID:"Europe/Vienna"
BEGIN:DAYLIGHT
TZOFFSETFROM:+0100
TZOFFSETTO:+0200
TZNAME:CEST
DTSTART:20180325T010000
END:DAYLIGHT
BEGIN:STANDARD
TZOFFSETFROM:+0200
TZOFFSETTO:+0100
TZNAME:CET
DTSTART:20181028T010000
END:STANDARD
END:VTIMEZONE
BEGIN:VEVENT
DTSTART;TZID="Europe/Vienna":20180517T190000
DTEND;TZID="Europe/Vienna":20180517T220000
DTSTAMP:20260421T042634
CREATED:20180425T111716Z
LAST-MODIFIED:20180503T063719Z
UID:55182-1526583600-1526594400@www.strawanzerin.at
SUMMARY:Buchpräsentation: Die neuen Muslime
DESCRIPTION:Die Journalistin Susanne Kaiser hat für ihr Buch “Die neuen Muslime” Geschichten von jungen\, zum Islam konvertierten Frauen und Männern eingefangen und Fragen gestellt\, die weitgehend tabuisiert sind. Die Hinwendung zum Islam soll ihnen helfen\, ihr Leben in den Griff zu bekommen und etwas aus sich zu machen. Sie sehen sich als festen Teil der Gesellschaft und möchten mit ihren Ideen dazu beitragen\, diese zum Besseren zu wenden. In diesem Buch kommen sie zu Wort und werden gehört. \n
URL:https://www.strawanzerin.at/termin/buchpraesentation-die-neuen-muslime/
LOCATION:Veranstaltungszentrum Praterstern\, Praterstern 1\, Wien\, Wien\, 1020\, Österreich
ORGANIZER;CN="Promedia%20Verlag":MAILTO:promedia@mediashop.at
GEO:48.2190006;16.389643
X-APPLE-STRUCTURED-LOCATION;VALUE=URI;X-ADDRESS=Veranstaltungszentrum Praterstern Praterstern 1 Wien Wien 1020 Österreich;X-APPLE-RADIUS=500;X-TITLE=Praterstern 1:geo:16.389643,48.2190006
END:VEVENT
END:VCALENDAR