BEGIN:VCALENDAR
VERSION:2.0
PRODID:-//STRAWANZERIN - ECPv4.9.5//NONSGML v1.0//EN
CALSCALE:GREGORIAN
METHOD:PUBLISH
X-WR-CALNAME:STRAWANZERIN
X-ORIGINAL-URL:https://www.strawanzerin.at
X-WR-CALDESC:Veranstaltungen im STRAWANZERIN
BEGIN:VTIMEZONE
TZID:"Europe/Vienna"
BEGIN:DAYLIGHT
TZOFFSETFROM:+0100
TZOFFSETTO:+0200
TZNAME:CEST
DTSTART:20170326T010000
END:DAYLIGHT
BEGIN:STANDARD
TZOFFSETFROM:+0200
TZOFFSETTO:+0100
TZNAME:CET
DTSTART:20171029T010000
END:STANDARD
END:VTIMEZONE
BEGIN:VEVENT
DTSTART;TZID="Europe/Vienna":20171017T193000
DTEND;TZID="Europe/Vienna":20171017T230000
DTSTAMP:20260422T173251
CREATED:20170913T134737Z
LAST-MODIFIED:20170913T162111Z
UID:46827-1508268600-1508281200@www.strawanzerin.at
SUMMARY:BUCHPRÄSENTATION: FASSADENDEMOKRATIE UND TIEFER STAAT
DESCRIPTION:Immer sichtbarer wird für Beobachter des Zeitgeschehens die schleichende Transformation parlamentarischer Demokratien in Richtung autoritärer Systeme. Organisationen\, die sich ausschließlich Kapitalinteressen verpflichtet fühlen\, schaffen suprastaatliche Strukturen\, die sich der demokratischen Kontrolle entziehen. Vom Volk gewählte politische Repräsentanten sehen sich zu Handlangern der ökonomisch Mächtigen degradiert\, viele von ihnen vollziehen den Schulterschluss mit ihnen. \n„Das Ende der Demokratie … wie wir sie kennen“ nannte dies der 2015 verstorbene Soziologe Bernd Hamm und gab damit den Anstoß für dieses Buch. Die hier versammelten Autoren analysieren seinen Befund aus unterschiedlichen Blickwinkeln. Gemeinsam teilen sie die Überzeugung\, dass sich die liberalen Demokratien\, wie sie sich seit dem Zweiten Weltkrieg herausgebildet haben\, im Niedergang befinden. Ihr aktueller Status ist mit dem Begriff der „Fassadendemokratie“ passend beschrieben.  \nBuchpräsentation mit Herausgebern und Autoren des Bandes.  \n
URL:https://www.strawanzerin.at/termin/buchpraesentation-fassadendemokratie-und-tiefer-staat/
LOCATION:Aktionsradius Wien\, Gaußplatz 11\, Wien\, Wien\, 1200\, Österreich
CATEGORIES:Vortrag/Symposium
ORGANIZER;CN="Promedia%20Verlag":MAILTO:promedia@mediashop.at
GEO:48.2268813;16.3698922
X-APPLE-STRUCTURED-LOCATION;VALUE=URI;X-ADDRESS=Aktionsradius Wien Gaußplatz 11 Wien Wien 1200 Österreich;X-APPLE-RADIUS=500;X-TITLE=Gaußplatz 11:geo:16.3698922,48.2268813
END:VEVENT
END:VCALENDAR