BEGIN:VCALENDAR
VERSION:2.0
PRODID:-//STRAWANZERIN - ECPv4.9.5//NONSGML v1.0//EN
CALSCALE:GREGORIAN
METHOD:PUBLISH
X-WR-CALNAME:STRAWANZERIN
X-ORIGINAL-URL:https://www.strawanzerin.at
X-WR-CALDESC:Veranstaltungen im STRAWANZERIN
BEGIN:VTIMEZONE
TZID:"Europe/Vienna"
BEGIN:DAYLIGHT
TZOFFSETFROM:+0100
TZOFFSETTO:+0200
TZNAME:CEST
DTSTART:20200329T010000
END:DAYLIGHT
BEGIN:STANDARD
TZOFFSETFROM:+0200
TZOFFSETTO:+0100
TZNAME:CET
DTSTART:20201025T010000
END:STANDARD
END:VTIMEZONE
BEGIN:VEVENT
DTSTART;TZID="Europe/Vienna":20201027T190000
DTEND;TZID="Europe/Vienna":20201027T210000
DTSTAMP:20260424T221041
CREATED:20201008T125127Z
LAST-MODIFIED:20201022T114150Z
UID:75838-1603825200-1603832400@www.strawanzerin.at
SUMMARY:Buchpräsentation und Diskussion: Menschenhandel und Sexsklaverei (Manfred Paulus)
DESCRIPTION:Als ehemaliger Kriminalhauptkommissar hatte Manfred Paulus sein ganzes Berufsleben mit den Geschäftsfeldern des organisierten Verbrechens zu tun\, die sich rund um die Rotlichtmilieus breit gemacht haben. 30 Jahre lang widmete er sich der Bekämpfung des immer internationaler werdenden Menschenhandels\, der aus Frauen und Kindern ausgebeutete Sexobjekte macht\, Waren\, die mitten in unseren Städten in erniedrigender Weise angeboten und nachgefragt werden. \nEs diskutieren:\nManfred Paulus\, Autor und Kriminalhauptkommissar a.D. \nSr. Anna Mayrhofer\, SOLWODI \nModeration: Susanne Riegler \nNäheres zum Buch: \nMenschenhandel und Sexsklaverei \n \n
URL:https://www.strawanzerin.at/termin/buchpraesentation-und-diskussion-menschenhandel-und-sexsklaverei-manfred-paulus/
LOCATION:Kapitelsaal der Salvadorianer\, Habsburgergasse 12\, Wien\, 1010\, Österreich
CATEGORIES:Deutsch,Gratis,Transnational,Vortrag/Symposium,Wien
ATTACH;FMTTYPE=image/jpeg:https://www.strawanzerin.at/wp-content/uploads/2020/10/paulus_menschenhandel_467.jpg
ORGANIZER;CN="Promedia%20Verlag":MAILTO:promedia@mediashop.at
END:VEVENT
END:VCALENDAR