BEGIN:VCALENDAR
VERSION:2.0
PRODID:-//STRAWANZERIN - ECPv4.9.5//NONSGML v1.0//EN
CALSCALE:GREGORIAN
METHOD:PUBLISH
X-WR-CALNAME:STRAWANZERIN
X-ORIGINAL-URL:https://www.strawanzerin.at
X-WR-CALDESC:Veranstaltungen im STRAWANZERIN
BEGIN:VTIMEZONE
TZID:"Europe/Helsinki"
BEGIN:DAYLIGHT
TZOFFSETFROM:+0200
TZOFFSETTO:+0300
TZNAME:EEST
DTSTART:20150329T010000
END:DAYLIGHT
BEGIN:STANDARD
TZOFFSETFROM:+0300
TZOFFSETTO:+0200
TZNAME:EET
DTSTART:20151025T010000
END:STANDARD
END:VTIMEZONE
BEGIN:VEVENT
DTSTART;TZID="Europe/Helsinki":20151203T200000
DTEND;TZID="Europe/Helsinki":20151203T200000
DTSTAMP:20260423T155749
CREATED:20151111T133443Z
LAST-MODIFIED:20151111T133443Z
UID:21484-1449172800-1449172800@www.strawanzerin.at
SUMMARY:Buchrelease fiber_feminismus
DESCRIPTION:You give me fiber?! We give you fiber_feminismus!!! \nNeben dem druckfrischen Buch\, das ihr dort erwerben und signieren lassen könnt\, erwarten euch heiße Musik\, Moderation\, Auflegerei\, Tombola und Lesung! \n*** MIT ***\nModeration: Denice Bourbon\nAuflegerei: Electric Indigo\, shushu & EKLEXTASY\nBands: lime crush & TBA \nDie fiber freut sich auf euch! ♥ ♥ ♥ \nHinweis zu Barrieren im Werk: Das Werk ist nicht bzw. nur teilweise barrierefrei bezüglich Rollis. Wir arbeiten derzeit noch an Lösungen für Toiletten etc. Bitte meldet euch – damit wir gemeinsam überlegen\, wie wir das bestmöglich beWERKstelligen. Gleiches gilt bei anderen Bedarfen\, z.B. nach ÖGS (für die Lesung): bitte bis spät. 18.11. anmelden! ********* \n
URL:https://www.strawanzerin.at/termin/buchrelease-fiber_feminismus/2015-12-03/
CATEGORIES:bis 7,Deutsch,Feminismus,Fest,Wien
ATTACH;FMTTYPE=image/jpeg:https://www.strawanzerin.at/wp-content/uploads/2015/11/fiber-macht-ein-buch.jpg
END:VEVENT
END:VCALENDAR