BEGIN:VCALENDAR
VERSION:2.0
PRODID:-//STRAWANZERIN - ECPv4.9.5//NONSGML v1.0//EN
CALSCALE:GREGORIAN
METHOD:PUBLISH
X-WR-CALNAME:STRAWANZERIN
X-ORIGINAL-URL:https://www.strawanzerin.at
X-WR-CALDESC:Veranstaltungen im STRAWANZERIN
BEGIN:VTIMEZONE
TZID:"Europe/Vienna"
BEGIN:DAYLIGHT
TZOFFSETFROM:+0100
TZOFFSETTO:+0200
TZNAME:CEST
DTSTART:20250330T010000
END:DAYLIGHT
BEGIN:STANDARD
TZOFFSETFROM:+0200
TZOFFSETTO:+0100
TZNAME:CET
DTSTART:20251026T010000
END:STANDARD
END:VTIMEZONE
BEGIN:VEVENT
DTSTART;VALUE=DATE:20250316
DTEND;VALUE=DATE:20250318
DTSTAMP:20260420T115618
CREATED:20250213T161507Z
LAST-MODIFIED:20250213T161507Z
UID:106031-1742097600-1742183999@www.strawanzerin.at
SUMMARY:BÜCHERSONNTAG DELUXE - Börse für antiquarische Bücher
DESCRIPTION:Die Aussteller präsentieren antiquarische Bücher\nRaritäten – Einzelstücke – Vergriffenes – Bibliophiles.\nGehobene Literatur\, Bücher zu den Themen Geschichte\, Monarchie\, Reise\, Musik\, Kunst\, Fotografie und Architektur\, aber auch alte Kinder- und alte Kochbücher sowie Postkarten\, Grafik und Vintage-Fotos \n
URL:https://www.strawanzerin.at/termin/buechersonntag-deluxe-boerse-fuer-antiquarische-buecher-3/
LOCATION:Wohnung Löwenbach\, Reischachstraße 3\, Wien\, Wien\, 1010\, Österreich
CATEGORIES:Flohmarkt
ATTACH;FMTTYPE=image/jpeg:https://www.strawanzerin.at/wp-content/uploads/2025/02/IMG_20210725_103123-scaled.jpg
ORGANIZER;CN="Herbert%20Bauer":MAILTO:herbert_bauer@aon.at
END:VEVENT
END:VCALENDAR