BEGIN:VCALENDAR
VERSION:2.0
PRODID:-//STRAWANZERIN - ECPv4.9.5//NONSGML v1.0//EN
CALSCALE:GREGORIAN
METHOD:PUBLISH
X-WR-CALNAME:STRAWANZERIN
X-ORIGINAL-URL:https://www.strawanzerin.at
X-WR-CALDESC:Veranstaltungen im STRAWANZERIN
BEGIN:VTIMEZONE
TZID:"Europe/Helsinki"
BEGIN:DAYLIGHT
TZOFFSETFROM:+0200
TZOFFSETTO:+0300
TZNAME:EEST
DTSTART:20140330T010000
END:DAYLIGHT
BEGIN:STANDARD
TZOFFSETFROM:+0300
TZOFFSETTO:+0200
TZNAME:EET
DTSTART:20141026T010000
END:STANDARD
END:VTIMEZONE
BEGIN:VEVENT
DTSTART;TZID="Europe/Helsinki":20140623T190000
DTEND;TZID="Europe/Helsinki":20140623T210000
DTSTAMP:20260424T140310
CREATED:20140617T111417Z
LAST-MODIFIED:20140617T111417Z
UID:2736-1403550000-1403557200@www.strawanzerin.at
SUMMARY:Bürgerkrieg in der Ukraine
DESCRIPTION:Wir freuen uns\, zwei kompetente ReferentInnen ankündigen zu können: \nSuann Witt-Stahl (Hamburg)\, freie Journalistin und Autorin\, sie hat in Kiew\, Donezk\, Slawjansk und Charkow vor Ort recherchiert und Interviews geführt\nRoman Danyluk (München)\, libertärer Basisgewerkschafter und Autor u.a. des Buches Freiheit und Gerechtigkeit – Die Geschichte der Ukraine aus libertärer Sicht (Edition AV\, Lich 2010) \n
URL:https://www.strawanzerin.at/termin/buergerkrieg-in-der-ukraine/
CATEGORIES:Deutsch,Gratis,Soziale Kämpfe,Transnational,Vortrag/Symposium,Wien
END:VEVENT
END:VCALENDAR