BEGIN:VCALENDAR
VERSION:2.0
PRODID:-//STRAWANZERIN - ECPv4.9.5//NONSGML v1.0//EN
CALSCALE:GREGORIAN
METHOD:PUBLISH
X-WR-CALNAME:STRAWANZERIN
X-ORIGINAL-URL:https://www.strawanzerin.at
X-WR-CALDESC:Veranstaltungen im STRAWANZERIN
BEGIN:VTIMEZONE
TZID:"Europe/Vienna"
BEGIN:DAYLIGHT
TZOFFSETFROM:+0100
TZOFFSETTO:+0200
TZNAME:CEST
DTSTART:20200329T010000
END:DAYLIGHT
BEGIN:STANDARD
TZOFFSETFROM:+0200
TZOFFSETTO:+0100
TZNAME:CET
DTSTART:20201025T010000
END:STANDARD
END:VTIMEZONE
BEGIN:VEVENT
DTSTART;TZID="Europe/Vienna":20200929T193000
DTEND;TZID="Europe/Vienna":20200929T210000
DTSTAMP:20260421T155123
CREATED:20200925T081727Z
LAST-MODIFIED:20200925T081727Z
UID:75635-1601407800-1601413200@www.strawanzerin.at
SUMMARY:Bürgerliches Trauerspiel - Wann beginnt das Leben | Uraufführung von Martin Gruber und aktionstheater ensemble
DESCRIPTION:Die Welt scheint aus den Fugen geraten zu sein. Die Pandemie beflügelt nationale Populisten. Die Schere zwischen Arm und Reich weitet sich. Die Natur droht zu kollabieren. Dennoch freuen sich die Spieler und Spielerinnen endlich wieder auf der Bühne stehen zu dürfen.\nNaiv und hoffnungsfroh meint einer der Akteure: „Die Kunst wird uns retten“. Alle zusammen sind sie Kinder einer Generation\, welche meist durch einen unerschütterlichen Zukunftsglauben geeint war. Die Werte der bürgerlichen Eltern schreien nun\, angesichts der Zeitläufte\, nach einem Relaunch: Wie sieht eine gerechte Gesellschaft aus? Die Welt-Rettungsversuche des Ensembles wollen aber nicht so recht gelingen. Man flüchtet sich abermals in den vermeintlich sicheren Hafen der bürgerlichen Zweisamkeit… \nIn einem theatralisch-musikalischen High-Speed-Reigen führt Martin Gruber seine Compagnie in einen einsamen Mikrokosmos\, in dem niemand mehr weiß\, was richtig oder falsch ist. \nMan kommt kaum hinterher und folgt doch wie in einem Rausch\, fasziniert von der Fülle an Denkanstößen und ihren Verknüpfungen. (Der Standard) \nEine derartige Fülle gerade hochaktueller und gleichzeitig allgemein gültiger Fragen bringt Theaterliteratur kaum zum Ausdruck\, beim Aktionstheater hat sie allerdings ein einzigartiges Format\, das diese Komprimiertheit zulässt (…) Stehende Ovationen (Vorarlberger Nachrichten) \nFulminant (…) Martin Gruber kommt mit diesem Stück seiner Vision eines Gesamtkunstwerks näher denn je (…) Standing Ovations (Kronen Zeitung) \n(…) Spiegel der eigenen Erfahrungen und Gedanken\, und das in einer gleichzeitig berührenden und lustvoll-kurzweiligen Form. (Neue Vorarlberger Tageszeitung) \nZwischen Anarchie\, Zweifel und Zorn (ORF Vorarlberg) \nWahnwitziger Mix aus Komik\, Ernsthaftem und Absurdem (KULTUR Zeitschrift) \nRegie: Martin Gruber\nText: Martin Gruber\, aktionstheater ensemble sowie Wolfgang Mörth\,\nDramaturgie: Andreas Erdmann\, Martin Ojster\nMusikalische Leitung: Kristian Musser\, Nadine Abado\, Alexander Yannilos\nBühne\, Kostüme: Valerie Lutz\nRegieassistenz: Tanja Regele\, Hacer Göcen\nMit: Michaela Bilgeri\, Horst Heiß\, Thomas Kolle\, Benjamin Vanyek und Kristian Musser\, Nadine Abado\, Alexander Yannilos \nKoproduktion mit dem Landestheater Linz und der Kulturabteilung der Landeshauptstadt Bregenz | In Kooperation mit Werk X | Mit freundlicher Unterstützung von Land Vorarlberg\, Stadt Wien | Kultur\, Bundesministerium Kunst\, Kultur\, öffentlicher Dienst und Sport. Weitere Informationen unter www.aktionstheater.at\, www.bregenzerfuehling.com und werk-x.at \n
URL:https://www.strawanzerin.at/termin/buergerliches-trauerspiel-wann-beginnt-das-leben-urauffuehrung-von-martin-gruber-und-aktionstheater-ensemble/2020-09-29/
LOCATION:WERK X\, Oswaldgasse 35A\, Wien\, Wien\, 1120\, Österreich
CATEGORIES:ab 7,Deutsch,Kunst/Kultur,Theater/Kabarett,Wien
ATTACH;FMTTYPE=image/jpeg:https://www.strawanzerin.at/wp-content/uploads/2020/09/Buergerliches-Trauerspiel.-Wann-beginnt-das-Leben.-Uraufffuehrung-von-Martin-Gruber-und-aktionstheater-ensemble-c-Gerhard-Breitwieser-3-scaled.jpg
ORGANIZER;CN="aktionstheater%20ensemble":MAILTO:office@aktionstheater.at
GEO:48.1662859;16.3245824
X-APPLE-STRUCTURED-LOCATION;VALUE=URI;X-ADDRESS=WERK X Oswaldgasse 35A Wien Wien 1120 Österreich;X-APPLE-RADIUS=500;X-TITLE=Oswaldgasse 35A:geo:16.3245824,48.1662859
END:VEVENT
END:VCALENDAR