BEGIN:VCALENDAR
VERSION:2.0
PRODID:-//STRAWANZERIN - ECPv4.9.5//NONSGML v1.0//EN
CALSCALE:GREGORIAN
METHOD:PUBLISH
X-WR-CALNAME:STRAWANZERIN
X-ORIGINAL-URL:https://www.strawanzerin.at
X-WR-CALDESC:Veranstaltungen im STRAWANZERIN
BEGIN:VTIMEZONE
TZID:"Europe/Vienna"
BEGIN:DAYLIGHT
TZOFFSETFROM:+0100
TZOFFSETTO:+0200
TZNAME:CEST
DTSTART:20210328T010000
END:DAYLIGHT
BEGIN:STANDARD
TZOFFSETFROM:+0200
TZOFFSETTO:+0100
TZNAME:CET
DTSTART:20211031T010000
END:STANDARD
END:VTIMEZONE
BEGIN:VEVENT
DTSTART;TZID="Europe/Vienna":20210203T203000
DTEND;TZID="Europe/Vienna":20210203T213000
DTSTAMP:20260420T193838
CREATED:20210121T140329Z
LAST-MODIFIED:20210216T081326Z
UID:76259-1612384200-1612387800@www.strawanzerin.at
SUMMARY:BURNING TISSUES - transform your emotion into motion
DESCRIPTION:Eine interaktive TV Show von und mit saft für Ihre Begleitung von der Apathie in die Unruhe. \nGemäß der Parole Depressiv? Es ist politisch. wendet sich das feministische Performance- und Theaterkollektiv saft der Politischen Depression zu\, um das Gebot der individuellen politischen Verantwortung im neoliberalen Kapitalismus zu befragen. Welchen Einfluss hat dieses Gebot auf unser individuelles Emotionsleben und damit auch auf unsere politische Handlungsfähigkeit? In welcher Wechselwirkung stehen diese beiden Sphären zueinander? Welche Rolle spielt dabei der Bereich des Konsums als Austragungsort von vermeintlich individuellen Bedürfnissen und politischen Interessen? Und wie gehen wir damit um\, dass neoliberale Marktlogiken auch vor dem sogenannten Privaten keinen Halt machen?\nDiese und weitere Fragen stellt sich saft in der interaktiven TV Show BURNING TISSUES. Anstatt jedoch Antworten\, Lösungen und Heilungsversprechen anzubieten\, wird der Versuch unternommen\, individuelle und individualisierte Ohnmachtsgefühle (als Zustand der politischen Depression) zu einem kollektiven Zustand von Unruhe und Wut umzudeuten und zu kanalisieren. Im Fokus stehen gemeinsames Aufspüren und Hinterfragen der Ursachenherde der politischen Depression. Die strukturelle Ebene von vermeintlich privaten Emotionen wird aktiviert. \n
URL:https://www.strawanzerin.at/termin/burning-tissues-transform-your-emotion-into-motion/
LOCATION:online
CATEGORIES:Gratis,Kunst/Kultur,Soziale Kämpfe,Theater/Kabarett
ATTACH;FMTTYPE=image/png:https://www.strawanzerin.at/wp-content/uploads/2021/01/Bild-brennendes-Taschentuch.png
ORGANIZER;CN="WUK%20performing%20arts":MAILTO:performingarts@wuk.at
END:VEVENT
END:VCALENDAR