BEGIN:VCALENDAR
VERSION:2.0
PRODID:-//STRAWANZERIN - ECPv4.9.5//NONSGML v1.0//EN
CALSCALE:GREGORIAN
METHOD:PUBLISH
X-WR-CALNAME:STRAWANZERIN
X-ORIGINAL-URL:https://www.strawanzerin.at
X-WR-CALDESC:Veranstaltungen im STRAWANZERIN
BEGIN:VTIMEZONE
TZID:"Europe/Vienna"
BEGIN:DAYLIGHT
TZOFFSETFROM:+0100
TZOFFSETTO:+0200
TZNAME:CEST
DTSTART:20170326T010000
END:DAYLIGHT
BEGIN:STANDARD
TZOFFSETFROM:+0200
TZOFFSETTO:+0100
TZNAME:CET
DTSTART:20171029T010000
END:STANDARD
END:VTIMEZONE
BEGIN:VEVENT
DTSTART;TZID="Europe/Vienna":20170428T193000
DTEND;TZID="Europe/Vienna":20170428T230000
DTSTAMP:20260425T102145
CREATED:20170407T202206Z
LAST-MODIFIED:20170410T092233Z
UID:42951-1493407800-1493420400@www.strawanzerin.at
SUMMARY:Butoh Tanz Perfomance
DESCRIPTION:ButohKan Mayu – ButohCenter Austria am Kamm-together Festival \nButohKan Mayu – ButohCenter Austria wurde 2012 von den ButohTänzerinnen DaniMayu und Runa Hatariy gegründet. Es soll Tänzern\, Zuschauern und Interessierten eine Plattform bieten\, um sich auszutauschen\, zu vernetzen und weiterzubilden. \nDas Zentrum bietet Workshops\, Performances\, Vorträge\, unterstützt\nButohTänzer aus der ganzen Welt bei der Organisation und Realisierung ihrer Auftritte und Workshops in Österreich. \nFür 2017 plant ButohKan Mayu – ButohCenter Austria in Kooperation mit dem HOB i RAUM für das Kamm-together Festival\, das dieses Jahr ganz dem Thema Tanz gewidmet ist\, ein Projekt in Bad Vöslau. \nMit Menschen aus der Region soll bis zum 9. September ein Gruppenstück\nerarbeitet werden\, das im Rahmen des Kamm-together Festivals aufgeführt wird. \nInfos unter:\nbutohcenter-austria.blogspot.co.at\nwww.facebook.com/butohcenter.austria \n28. April 19:30\nButohPerformance\nDas Duo von DaniMayu und Runa Hatariy stellt ihre Arbeit und Butoh vor. Danach wird DaniMayu einen kurzen Vortrag über Butoh halten und das Projekt für das Kamm-together Festival vorstellen.\nAbschliessend stehen die beiden Künstlerinnen Publikumsfragen zur Verfügung.\nSeinen Ausklang findet der Abend in entspannter Athmosphäre im HOB i RAUM.\nEs besteht auch die Möglichkeit\, sich sofort für die Audition anzumelden. \nHOB i RAUM\nHanuschgasse 1/28\,\n2540 Bad Vöslau\nwww.hobiraum.at\nEintritt freie Spende! \n
URL:https://www.strawanzerin.at/termin/butoh-tanz-perfomance/
LOCATION:HOB i RAUM\, Hanuschgasse 1\, Bad Vöslau\, Niederösterreich\, 2540
CATEGORIES:Eintrittspreis,freie Spende,Kategorie,Niederösterreich,Region/Bundesland,Tanz
ATTACH;FMTTYPE=image/jpeg:https://www.strawanzerin.at/wp-content/uploads/2017/04/aushang_web.jpg
ORGANIZER;CN="Butoh%20Center%20Austria":MAILTO:office@butoh-runa.com
GEO:47.9686941;16.2205195
X-APPLE-STRUCTURED-LOCATION;VALUE=URI;X-ADDRESS=HOB i RAUM Hanuschgasse 1 Bad Vöslau Niederösterreich 2540;X-APPLE-RADIUS=500;X-TITLE=Hanuschgasse 1:geo:16.2205195,47.9686941
END:VEVENT
END:VCALENDAR