BEGIN:VCALENDAR
VERSION:2.0
PRODID:-//STRAWANZERIN - ECPv4.9.5//NONSGML v1.0//EN
CALSCALE:GREGORIAN
METHOD:PUBLISH
X-WR-CALNAME:STRAWANZERIN
X-ORIGINAL-URL:https://www.strawanzerin.at
X-WR-CALDESC:Veranstaltungen im STRAWANZERIN
BEGIN:VTIMEZONE
TZID:"Europe/Vienna"
BEGIN:DAYLIGHT
TZOFFSETFROM:+0100
TZOFFSETTO:+0200
TZNAME:CEST
DTSTART:20190331T010000
END:DAYLIGHT
BEGIN:STANDARD
TZOFFSETFROM:+0200
TZOFFSETTO:+0100
TZNAME:CET
DTSTART:20191027T010000
END:STANDARD
END:VTIMEZONE
BEGIN:VEVENT
DTSTART;TZID="Europe/Vienna":20191104T200000
DTEND;TZID="Europe/Vienna":20191104T220000
DTSTAMP:20260423T141645
CREATED:20191007T130246Z
LAST-MODIFIED:20191011T142704Z
UID:69410-1572897600-1572904800@www.strawanzerin.at
SUMMARY:Cabrioletta: vocal im local
DESCRIPTION:Konzert mit Wiener Chanson\nlocal – BAR\, Heilgenstädterstrasse 31\, 1190 Wien\n(2min von Spittelau)\n4. November 2019 22:00-22:00\ncopyright Ursula Baumgartl\nFoto Wolfgang Vogl \nCabrioletta & die Jonnnys spielen im Quartett\nUrsula Baumgartl\nAndrea Fränzel\nAlois Bauerstatter\nMartin Spitzer \nLieder von K. Weill\, G. Kreisler\, eigene Songs und ein paar Schlager aus den 20er Jahren.\nAbwechslungsreicher Wiener Chanson \n
URL:https://www.strawanzerin.at/termin/cabrioletta-vocal-im-local/
LOCATION:Local\, Heiligenstädterstr. 31/ Bogen 217\, Wien\, Wien\, 1190\, Österreich
CATEGORIES:Deutsch,freie Spende,Kunst/Kultur,Musik,Wien
ATTACH;FMTTYPE=image/jpeg:https://www.strawanzerin.at/wp-content/uploads/2019/10/IMG_9644.jpg
ORGANIZER;CN="Ursula%20Baumgartl":MAILTO:cabrioletta@ursulabaumgartl.at
GEO:48.2659678;16.3405223
X-APPLE-STRUCTURED-LOCATION;VALUE=URI;X-ADDRESS=Local Heiligenstädterstr. 31/ Bogen 217 Wien Wien 1190 Österreich;X-APPLE-RADIUS=500;X-TITLE=Heiligenstädterstr. 31/ Bogen 217:geo:16.3405223,48.2659678
END:VEVENT
END:VCALENDAR