BEGIN:VCALENDAR
VERSION:2.0
PRODID:-//STRAWANZERIN - ECPv4.9.5//NONSGML v1.0//EN
CALSCALE:GREGORIAN
METHOD:PUBLISH
X-WR-CALNAME:STRAWANZERIN
X-ORIGINAL-URL:https://www.strawanzerin.at
X-WR-CALDESC:Veranstaltungen im STRAWANZERIN
BEGIN:VTIMEZONE
TZID:"Europe/Helsinki"
BEGIN:DAYLIGHT
TZOFFSETFROM:+0200
TZOFFSETTO:+0300
TZNAME:EEST
DTSTART:20150329T010000
END:DAYLIGHT
BEGIN:STANDARD
TZOFFSETFROM:+0300
TZOFFSETTO:+0200
TZNAME:EET
DTSTART:20151025T010000
END:STANDARD
END:VTIMEZONE
BEGIN:VEVENT
DTSTART;TZID="Europe/Helsinki":20150117T180000
DTEND;TZID="Europe/Helsinki":20150117T210000
DTSTAMP:20260423T154511
CREATED:20150101T165026Z
LAST-MODIFIED:20150108T122523Z
UID:9956-1421517600-1421528400@www.strawanzerin.at
SUMMARY:Café Entropy - Finissage
DESCRIPTION:Als der Pariser Fotograf Alain Barbero sich für ein Jahr in Wien aufhielt\, verliebte er sich in die Wiener Kaffeehäuser und beschloss seine Impressionen von Menschen und Momenten in Cafés fotografisch festzuhalten. Viele seiner Kaffeehausbesuche fanden gemeinsam mit der Autorin Barbara Rieger statt\, die sein erstes Kaffeehaus-Modell wurde und mit der er seit Dezember 2013 den Wiener Kaffeehausblog cafe.entropy.at betreibt. In der Wanderausstellung sind daraus ausgewählte Beiträge erstmals in Druckversion zu sehen.\nBei der Finissage werden Alain Barbero\, Barbara Rieger und einige der GastschreiberInnen und Modelle anwesend sein\, Texte vorlesen und in gemütlicher Kaffeehausatmosphäre diskutieren. \n
URL:https://www.strawanzerin.at/termin/cafe-entropy-finissage-2/
CATEGORIES:Deutsch,Gratis,Kunst/Kultur,Literatur,Vorarlberg
ATTACH;FMTTYPE=:
ORGANIZER;CN="Caf%C3%A9%20Entropy":MAILTO:cafe@entropy.at
END:VEVENT
END:VCALENDAR