BEGIN:VCALENDAR
VERSION:2.0
PRODID:-//STRAWANZERIN - ECPv4.9.5//NONSGML v1.0//EN
CALSCALE:GREGORIAN
METHOD:PUBLISH
X-WR-CALNAME:STRAWANZERIN
X-ORIGINAL-URL:https://www.strawanzerin.at
X-WR-CALDESC:Veranstaltungen im STRAWANZERIN
BEGIN:VTIMEZONE
TZID:"Europe/Paris"
BEGIN:DAYLIGHT
TZOFFSETFROM:+0100
TZOFFSETTO:+0200
TZNAME:CEST
DTSTART:20150329T010000
END:DAYLIGHT
BEGIN:STANDARD
TZOFFSETFROM:+0200
TZOFFSETTO:+0100
TZNAME:CET
DTSTART:20151025T010000
END:STANDARD
END:VTIMEZONE
BEGIN:VEVENT
DTSTART;TZID="Europe/Paris":20150919T120000
DTEND;TZID="Europe/Paris":20150919T230000
DTSTAMP:20260422T045400
CREATED:20150831T194437Z
LAST-MODIFIED:20150903T110652Z
UID:19539-1442664000-1442703600@www.strawanzerin.at
SUMMARY:Cannabis Social March
DESCRIPTION:Das US-Gesundheitsminsterium hat Ende August bestätigt\, dass Cannabis Krebszellen abtöten kann.\nDoch in Österreich wird man für die Einnahme der ältesten Medizin mit den geringsten Nebenwirkungen immer noch mit Gefängnis bedroht.\nNachdem die österreichische Bundesregierung die 33.000 Unterzeichner der bisher zweit-erfolgreichsten „Parlamentarischen Bürgerinitiative zur Herausnahme von Cannabis aus dem Suchtmittelgesetz“ jetzt mit der verabschiedeten Novelle des Suchtmittelgesetzes abstrafte und per Gesetz eine Million österreichische HanffreundInnen ab 1. Jänner 2016 als „Haschkranke“ deklariert\, werden wir die Proteste solange fortsetzen\, bis auch die Regierung die Cannabis-Realität wahrnimmt.\nCannabis ist ein Heilmittel! \nMelden Sie sich zur grössten europäische Pro-Cannabis-Demonstration auf dieser Facebook-Seite an: https://www.facebook.com/events/839733336104232/ \nAchtung: Der CSM2015 wird voraussichtlich vom Margaretengürtel über Ring und Kai\, die Praterstrasse und die Hauptallee bis zur Jesuitenwiese führen. Endgültige Route steht am 4. September fest. \n
URL:https://www.strawanzerin.at/termin/cannabis-social-march/
LOCATION:Jesuitenwiese\, Prater\, Wien\, 1020\, Österreich
CATEGORIES:Deutsch,Gratis,Kundgebung,Sonstiges,Wien
ATTACH;FMTTYPE=image/jpeg:https://www.strawanzerin.at/wp-content/uploads/2015/08/CSMLogoLoQual.jpg
ORGANIZER;CN="Hanf-Institut":MAILTO:csm2015@hanfinstitut.at
GEO:48.2167269;16.3980286
X-APPLE-STRUCTURED-LOCATION;VALUE=URI;X-ADDRESS=Jesuitenwiese Prater Wien 1020 Österreich;X-APPLE-RADIUS=500;X-TITLE=Prater:geo:16.3980286,48.2167269
END:VEVENT
END:VCALENDAR