BEGIN:VCALENDAR
VERSION:2.0
PRODID:-//STRAWANZERIN - ECPv4.9.5//NONSGML v1.0//EN
CALSCALE:GREGORIAN
METHOD:PUBLISH
X-WR-CALNAME:STRAWANZERIN
X-ORIGINAL-URL:https://www.strawanzerin.at
X-WR-CALDESC:Veranstaltungen im STRAWANZERIN
BEGIN:VTIMEZONE
TZID:"Europe/Vienna"
BEGIN:DAYLIGHT
TZOFFSETFROM:+0100
TZOFFSETTO:+0200
TZNAME:CEST
DTSTART:20180325T010000
END:DAYLIGHT
BEGIN:STANDARD
TZOFFSETFROM:+0200
TZOFFSETTO:+0100
TZNAME:CET
DTSTART:20181028T010000
END:STANDARD
END:VTIMEZONE
BEGIN:VEVENT
DTSTART;TZID="Europe/Vienna":20181011T193000
DTEND;TZID="Europe/Vienna":20181011T210000
DTSTAMP:20260422T023137
CREATED:20181007T112739Z
LAST-MODIFIED:20181007T112739Z
UID:59327-1539286200-1539291600@www.strawanzerin.at
SUMMARY:Capriccio Español - Launige Verse auf Jakobs Wegen
DESCRIPTION:Das Kleinkunst-Café GenussSpiegel präsentiert:\nCapriccio Español Launige Verse auf Jakobs Wegen\nErnst Mischer\nBuchpräsentation und Lesung\nLesung von Guido Radschiner\nund der Autor. Musikbegleitung. \nDonnerstag\, 11. Oktober 2018\n19:30 Uhr\nEINTRITT FREII \nAnmeldung unter:\noffice@genuss-spiegel.at oder per Telefon 0676 57 23 0 23\nDiese kulturelle Veranstaltung wird von der Bezirksvorstehung Liesing gefördert \nKontakt:\nKleinkunst-Café GenussSpiegel\nLevasseurgasse 19\, 1230 Wien\nTel.: 0676 5723023\neMail: office@genuss-spiegel.at\nweb: www.genuss-spiegel.at\nfacebook: www.facebook.com/GenussSpiegel \n
URL:https://www.strawanzerin.at/termin/capriccio-espanol-launige-verse-auf-jakobs-wegen/
LOCATION:Kleinkunst-Café GenussSpiegel – Café\, Kunst & Kulinarik\, Levasseurgasse 19\, Wien\, Wien\, 1230\, Österreich
CATEGORIES:Literatur
ATTACH;FMTTYPE=image/jpeg:https://www.strawanzerin.at/wp-content/uploads/2018/10/Capriccio-Espanol.jpg
ORGANIZER;CN="Kleinkunst-Caf%C3%A9%20GenussSpiegel":MAILTO:office@genuss-spiegel.at
GEO:48.1471746;16.2947927
X-APPLE-STRUCTURED-LOCATION;VALUE=URI;X-ADDRESS=Kleinkunst-Café GenussSpiegel – Café Kunst & Kulinarik Levasseurgasse 19 Wien Wien 1230 Österreich;X-APPLE-RADIUS=500;X-TITLE=Levasseurgasse 19:geo:16.2947927,48.1471746
END:VEVENT
END:VCALENDAR