BEGIN:VCALENDAR
VERSION:2.0
PRODID:-//STRAWANZERIN - ECPv4.9.5//NONSGML v1.0//EN
CALSCALE:GREGORIAN
METHOD:PUBLISH
X-WR-CALNAME:STRAWANZERIN
X-ORIGINAL-URL:https://www.strawanzerin.at
X-WR-CALDESC:Veranstaltungen im STRAWANZERIN
BEGIN:VTIMEZONE
TZID:"Europe/Vienna"
BEGIN:DAYLIGHT
TZOFFSETFROM:+0100
TZOFFSETTO:+0200
TZNAME:CEST
DTSTART:20220327T010000
END:DAYLIGHT
BEGIN:STANDARD
TZOFFSETFROM:+0200
TZOFFSETTO:+0100
TZNAME:CET
DTSTART:20221030T010000
END:STANDARD
END:VTIMEZONE
BEGIN:VEVENT
DTSTART;TZID="Europe/Vienna":20220130T160000
DTEND;TZID="Europe/Vienna":20220130T173000
DTSTAMP:20260421T001812
CREATED:20220117T083247Z
LAST-MODIFIED:20220202T121837Z
UID:82570-1643558400-1643563800@www.strawanzerin.at
SUMMARY:Capriccio zu Ehren Mozarts Geburtstag
DESCRIPTION:»Mozart und seine Freunde« – unter diesem Motto würdigt das Concilium musicum Wien den 266. Geburtstag von Wolfgang Amadé Mozart mit Werken aus der Feder des Meisters. Hinzu kommen Kompositionen von Joseph Haydn\, Johann Georg Albrechtsberger\, Franz Xaver Süßmayr und Abbé Maximilian Stadler. Der künstlerische Leiter Christoph Angerer verspricht ein kammermusikalisches Fest für alle Freundinnen und Freunde vollendeter Klassik. \nInfo:\nTel. 0676 840 362 44  \nBild: Christoph Angerer\, Foto/© Rainer Fehringer \n
URL:https://www.strawanzerin.at/termin/capriccio-zu-ehren-mozarts-geburtstag/
LOCATION:Haus der Ingenieure\, Eschenbachgasse 9\, Wien\, Wien\, 1010\, Österreich
CATEGORIES:ab 7,Kunst/Kultur,Musik,Wien
ATTACH;FMTTYPE=image/jpeg:https://www.strawanzerin.at/wp-content/uploads/2022/01/Christoph-Angerer-by-Rainer-Fehringer-3-scaled.jpg
END:VEVENT
END:VCALENDAR