BEGIN:VCALENDAR
VERSION:2.0
PRODID:-//STRAWANZERIN - ECPv4.9.5//NONSGML v1.0//EN
CALSCALE:GREGORIAN
METHOD:PUBLISH
X-WR-CALNAME:STRAWANZERIN
X-ORIGINAL-URL:https://www.strawanzerin.at
X-WR-CALDESC:Veranstaltungen im STRAWANZERIN
BEGIN:VTIMEZONE
TZID:"Europe/Vienna"
BEGIN:DAYLIGHT
TZOFFSETFROM:+0100
TZOFFSETTO:+0200
TZNAME:CEST
DTSTART:20240331T010000
END:DAYLIGHT
BEGIN:STANDARD
TZOFFSETFROM:+0200
TZOFFSETTO:+0100
TZNAME:CET
DTSTART:20241027T010000
END:STANDARD
END:VTIMEZONE
BEGIN:VEVENT
DTSTART;TZID="Europe/Vienna":20240404T180000
DTEND;TZID="Europe/Vienna":20240404T180000
DTSTAMP:20260420T202801
CREATED:20240330T165742Z
LAST-MODIFIED:20240330T165742Z
UID:97742-1712253600-1712253600@www.strawanzerin.at
SUMMARY:Care für Überleben\, Widerstand leisten\, für Demokratie kämpfen. Die Belarussische Perspektive
DESCRIPTION:Vortrag\nSeit dem Jahr 2020\, als in Belarus die großen prodemokratischen Proteste angefangen haben\, versuche ich diese philosophisch und feministisch zu konzipieren. Zusammen mit weiteren belarussischen Forscher*innen analysierten wir erst die Proteste und nach 2020 den Widerstand und die Agency innerhalb von Belarus und unseren Kampf für die Demokratie im Exil in den Begriffen der Care-Theorien. Als Teil dieser theoretisch-praktischen Arbeit gilt heute auch das Manifest der feministischen Politik für ein demokratisches Belarus\, das wir vor kurzem erarbeitet haben. \nMit Olga Shparaga\, Philosophin und politisch-feministische Aktivistin\, Vordenkerin der Massenproteste in Belarus im Spätsommer 2020. Sie lehrte Philosophie in Minsk bis 2021 und musste nach Inhaftierung ins Exil. Bekannt wurde sie mit dem Buch ‚Die Revolution hat ein weibliches Gesicht. Der Fall Belarus.‘ (Suhrkamp 2021) \nModeration: Brigitte Buchhammer (SWIP) \nFrauenhetz in Kooperation mit Society for Women in Philosophy \nOrt: Frauenbildungsstätte Frauenhetz\, Untere Weißgerberstraße 41\, 1030 Wien \nDie Veranstaltung ist offen für alle. \n
URL:https://www.strawanzerin.at/termin/care-fuer-ueberleben-widerstand-leisten-fuer-demokratie-kaempfen-die-belarussische-perspektive/
LOCATION:Frauenbildungsstätte Frauenhetz\, Untere Weißgerberstraße 41\, Wien\, Wien\, 1030\, Österreich
CATEGORIES:Barrierefrei,Bildung,Deutsch,Feminismus,Gratis,Soziale Kämpfe,Wien
GEO:48.2084854;16.3946163
X-APPLE-STRUCTURED-LOCATION;VALUE=URI;X-ADDRESS=Frauenbildungsstätte Frauenhetz Untere Weißgerberstraße 41 Wien Wien 1030 Österreich;X-APPLE-RADIUS=500;X-TITLE=Untere Weißgerberstraße 41:geo:16.3946163,48.2084854
END:VEVENT
END:VCALENDAR