BEGIN:VCALENDAR
VERSION:2.0
PRODID:-//STRAWANZERIN - ECPv4.9.5//NONSGML v1.0//EN
CALSCALE:GREGORIAN
METHOD:PUBLISH
X-WR-CALNAME:STRAWANZERIN
X-ORIGINAL-URL:https://www.strawanzerin.at
X-WR-CALDESC:Veranstaltungen im STRAWANZERIN
BEGIN:VTIMEZONE
TZID:"Europe/Helsinki"
BEGIN:DAYLIGHT
TZOFFSETFROM:+0200
TZOFFSETTO:+0300
TZNAME:EEST
DTSTART:20150329T010000
END:DAYLIGHT
BEGIN:STANDARD
TZOFFSETFROM:+0300
TZOFFSETTO:+0200
TZNAME:EET
DTSTART:20151025T010000
END:STANDARD
END:VTIMEZONE
BEGIN:VEVENT
DTSTART;TZID="Europe/Helsinki":20151022T170000
DTEND;TZID="Europe/Helsinki":20151022T200000
DTSTAMP:20260420T145208
CREATED:20151001T100103Z
LAST-MODIFIED:20151007T093152Z
UID:20022-1445533200-1445544000@www.strawanzerin.at
SUMMARY:Care-Sorge-Vergesellschaftung: Ein Workshop mit Gabriele Winker
DESCRIPTION:Nach der Buchpräsentation CARE REVOLUTION-SCHRITTE IN EINE SOLIDARISCHE GESELLSCHAFT im Juni organisieren die CARE AG der Interventionistischen Linken Wien und die Frauenhetz am 22.10.2015 einen Workshop mit der Autorin Gabriele Winker\, in dem wir uns intensiver mit dem Konzept der CARE REVOLUTION und der Vergesellschaftungs-Perspektive auseinandersetzen wollen. \n– Was bedeutet Vergesellschaftung im Care- und Pflegebereich?\n– Wie kann Sorgearbeit abseits von Staat und Kapital organisiert werden?\n– Was sind Schritte in eine solidarische Gesellschaft\, die menschliche Bedürfnisse und die Sorge umeinander ins Zentrum stellen? \nUm Anmeldung für den Workshop wird gebeten: il-wien@riseup.net \nGabriele Winker lehrt an der TU Hamburg und ist Mitbegründerin des Netzwerk Care Revolution www.care-revolution.org \nDie Interventionistische Linke [Wien] arbeitet derzeit in zwei Arbeitsgruppen zu den Themen Care und Recht auf Stadt. www.interventionistische-linke.at \nFrauenhetz ist als Verein organisiert mit dem Zweck\, feministische Bildung\, Kultur und Politik sowie feministische Forschung und Beratungs-Arbeit zu fördern und selbsttätig zu entwickeln. www.frauenhetz.at \n
URL:https://www.strawanzerin.at/termin/care-sorge-vergesellschaftung-ein-workshop-mit-gabriele-winker/2015-10-22/
LOCATION:Kulturzentrum im Amerlinghaus\, Stiftgasse 8\, Wien\, 1070\, Österreich
CATEGORIES:Deutsch,Gratis,Soziale Kämpfe,Wien,Workshop
ATTACH;FMTTYPE=image/jpeg:https://www.strawanzerin.at/wp-content/uploads/2015/10/Care_Revolution500.jpg
GEO:48.2031259;16.3543246
X-APPLE-STRUCTURED-LOCATION;VALUE=URI;X-ADDRESS=Kulturzentrum im Amerlinghaus Stiftgasse 8 Wien 1070 Österreich;X-APPLE-RADIUS=500;X-TITLE=Stiftgasse 8:geo:16.3543246,48.2031259
END:VEVENT
END:VCALENDAR