BEGIN:VCALENDAR
VERSION:2.0
PRODID:-//STRAWANZERIN - ECPv4.9.5//NONSGML v1.0//EN
CALSCALE:GREGORIAN
METHOD:PUBLISH
X-WR-CALNAME:STRAWANZERIN
X-ORIGINAL-URL:https://www.strawanzerin.at
X-WR-CALDESC:Veranstaltungen im STRAWANZERIN
BEGIN:VTIMEZONE
TZID:"Europe/Vienna"
BEGIN:DAYLIGHT
TZOFFSETFROM:+0100
TZOFFSETTO:+0200
TZNAME:CEST
DTSTART:20250330T010000
END:DAYLIGHT
BEGIN:STANDARD
TZOFFSETFROM:+0200
TZOFFSETTO:+0100
TZNAME:CET
DTSTART:20251026T010000
END:STANDARD
END:VTIMEZONE
BEGIN:VEVENT
DTSTART;TZID="Europe/Vienna":20250628T160000
DTEND;TZID="Europe/Vienna":20250628T210000
DTSTAMP:20260423T175119
CREATED:20250620T124724Z
LAST-MODIFIED:20250620T124724Z
UID:108370-1751126400-1751144400@www.strawanzerin.at
SUMMARY:Carnival of Connections
DESCRIPTION:The water carries us home\, the water takes us away. We are the water’s memory\, never lost\, never still. \n++++ \nDie nigerianische Aktivistin\, Kuratorin und Vermittlerin Henrie Dennis stellt mit dem Carnival of Connections kulturelle Ausdrucksformen und Erfahrungen der afrikanischen Community in Österreich in den Mittelpunkt. Der nigerianische Carnival ist eine Form des Protests\, dessen komplexe Geschichte von kolonialer Gewalt\, der Rückkehr ehemals versklavter afro-brasilianischer Gemeinschaften nach Nigeria und tief verwurzelten lokalen Traditionen geprägt ist. In diesem Kontext erforscht Carnival of Connections Themen wie Kolonialismus\, Sklaverei\, Befreiung\, Wurzeln\, Essen und Kultur. Dabei bringt er den Diskurs über Demokratie\, Vielfalt und kulturelle Integration in den öffentlichen Raum. \n28.06.2025\nCarnival of Connections – Carnival of the Waters\n16:00 -21:00 Uhr\nKaiserwasser Wien (Weissauweg\, 1022 Wien) \nCarnival of the Waters ist eine eintägige Veranstaltung auf der Donau\, die durch Performances\, Geschichtenerzählen und Rituale Themen wie Wasser\, Migration und Ancestral Spirituality erforscht. \nDer Carnival findet am Wasser statt\, weil Wasser und Themen rund um Migration eng miteinander verbunden sind: Es kann töten\, ist aber zugleich lebensnotwendig. Die Veranstaltung lädt dazu ein\, sich mit nicht-religiöser Ahnen-Spiritualität (Ancestral Spirituality) auseinanderzusetzen und zentrale Themen wie Heimat\, Zugehörigkeit und verkörpertes Wissen tiefgehend zu erforschen. Es wird außerdem spezielle kinderfreundliche Angebote geben\, die gezielt afrikanische Kinder verschiedener Generationen in der Diaspora ansprechen. \n12.07.2025\nCarnival of Connections – A Multimedia Interactive Exhibition\n17:00 Flucc (Praterstern 5\, 1020 Wien)\nDer zweite Teil von Carnival of Connections findet im Flucc statt und läd zur begleitenden Ausstellung\, Panel Discussion und abschließender Party ein. \nweitere Infos: \nHome \n \nCarnival of Connections \n\nInsta: carnivalofconnections \n
URL:https://www.strawanzerin.at/termin/carnival-of-connections/
CATEGORIES:Ausstellung,Gratis,Kunst/Kultur,Party,Sonstiges,Wien
ATTACH;FMTTYPE=image/jpeg:https://www.strawanzerin.at/wp-content/uploads/2025/06/20250423_CoC_Plakat_01-scaled.jpg
END:VEVENT
END:VCALENDAR