BEGIN:VCALENDAR
VERSION:2.0
PRODID:-//STRAWANZERIN - ECPv4.9.5//NONSGML v1.0//EN
CALSCALE:GREGORIAN
METHOD:PUBLISH
X-WR-CALNAME:STRAWANZERIN
X-ORIGINAL-URL:https://www.strawanzerin.at
X-WR-CALDESC:Veranstaltungen im STRAWANZERIN
BEGIN:VTIMEZONE
TZID:"Europe/Vienna"
BEGIN:DAYLIGHT
TZOFFSETFROM:+0100
TZOFFSETTO:+0200
TZNAME:CEST
DTSTART:20240331T010000
END:DAYLIGHT
BEGIN:STANDARD
TZOFFSETFROM:+0200
TZOFFSETTO:+0100
TZNAME:CET
DTSTART:20241027T010000
END:STANDARD
END:VTIMEZONE
BEGIN:VEVENT
DTSTART;TZID="Europe/Vienna":20241112T183000
DTEND;TZID="Europe/Vienna":20241112T200000
DTSTAMP:20260420T164411
CREATED:20240821T123213Z
LAST-MODIFIED:20240821T123213Z
UID:101932-1731436200-1731441600@www.strawanzerin.at
SUMMARY:CD-Präsentation Elisabeth Leonskaja: Musik der Wiener Schule
DESCRIPTION:Elisabeth Leonskaja Klavier \nAlban BERG Sonate für Klavier op. 1\nArnold SCHÖNBERG Suite für Klavier op. 25 \nWer Elisabeth Leonskaja mit Schönbergs Suite für Klavier op. 25 gehört hat\, versteht\, was dieses Werk der Musik Johann Sebastian Bachs verdankt. Geschätzt für ihre Interpretationen der Wiener Klassik und der Musik der Romantik\, hat sich die große Interpretin stets auch mit dem Schaffen der Wiener Schule auseinandergesetzt. Das Arnold Schönberg Center freut sich\, an diesem Abend eine neue CD der Pianistin mit Werken von Berg\, Webern und Schönberg zu präsentieren.\nFoto: Elisabeth Leonskaja © Marco Borggreve \n
URL:https://www.strawanzerin.at/termin/cd-praesentation-elisabeth-leonskaja-musik-der-wiener-schule/
LOCATION:Arnold Schönberg Center – Palais Fanto\, Schwarzenbergplatz 6 / Eingang Zaunergasse 1-3\, Wien\, 1030\, Österreich
CATEGORIES:Gratis,Kunst/Kultur,Musik,Wien
ATTACH;FMTTYPE=image/jpeg:https://www.strawanzerin.at/wp-content/uploads/2024/08/leonskaja.jpg
ORGANIZER;CN="Arnold%20Sch%C3%B6nberg%20Center":MAILTO:shop@schoenberg.at
END:VEVENT
END:VCALENDAR