BEGIN:VCALENDAR
VERSION:2.0
PRODID:-//STRAWANZERIN - ECPv4.9.5//NONSGML v1.0//EN
CALSCALE:GREGORIAN
METHOD:PUBLISH
X-WR-CALNAME:STRAWANZERIN
X-ORIGINAL-URL:https://www.strawanzerin.at
X-WR-CALDESC:Veranstaltungen im STRAWANZERIN
BEGIN:VTIMEZONE
TZID:"Europe/Helsinki"
BEGIN:DAYLIGHT
TZOFFSETFROM:+0200
TZOFFSETTO:+0300
TZNAME:EEST
DTSTART:20150329T010000
END:DAYLIGHT
BEGIN:STANDARD
TZOFFSETFROM:+0300
TZOFFSETTO:+0200
TZNAME:EET
DTSTART:20151025T010000
END:STANDARD
END:VTIMEZONE
BEGIN:VEVENT
DTSTART;TZID="Europe/Helsinki":20151210T200000
DTEND;TZID="Europe/Helsinki":20151211T020000
DTSTAMP:20260421T234013
CREATED:20151127T182707Z
LAST-MODIFIED:20151211T111412Z
UID:22179-1449777600-1449799200@www.strawanzerin.at
SUMMARY:Charity Slam 2015: "Refugees welcome"
DESCRIPTION:SOL organisiert eine tolle Veranstaltung mit im Rahmen der Wandelpartnerschaften. Wortkünstler\, Poetry Slammer und Musiker gestalten einen Abend mit bunten Texten\, wilden Songs und anderen kreativen Inhalten. Alle Einnahmen kommen einem Flüchtlingsprojekt des Österreichischen Roten Kreuzes zu Gute.\nAm 10.12.2015 ab 20:00 im Dschungel Wien (Museumsquartier)     \n
URL:https://www.strawanzerin.at/termin/charity-slam-2015-refugees-welcome/
LOCATION:Dschungel Wien\, Museumsplatz 1\, Wien\, Wien\, 1070\, Österreich
CATEGORIES:ab 7,Deutsch,Fest,Transnational,Wien
ATTACH;FMTTYPE=image/jpeg:https://www.strawanzerin.at/wp-content/uploads/2015/11/charity-Slam-logo.jpg
GEO:48.2034986;16.3591175
X-APPLE-STRUCTURED-LOCATION;VALUE=URI;X-ADDRESS=Dschungel Wien Museumsplatz 1 Wien Wien 1070 Österreich;X-APPLE-RADIUS=500;X-TITLE=Museumsplatz 1:geo:16.3591175,48.2034986
END:VEVENT
END:VCALENDAR