BEGIN:VCALENDAR
VERSION:2.0
PRODID:-//STRAWANZERIN - ECPv4.9.5//NONSGML v1.0//EN
CALSCALE:GREGORIAN
METHOD:PUBLISH
X-WR-CALNAME:STRAWANZERIN
X-ORIGINAL-URL:https://www.strawanzerin.at
X-WR-CALDESC:Veranstaltungen im STRAWANZERIN
BEGIN:VTIMEZONE
TZID:"Europe/Vienna"
BEGIN:DAYLIGHT
TZOFFSETFROM:+0100
TZOFFSETTO:+0200
TZNAME:CEST
DTSTART:20260329T010000
END:DAYLIGHT
BEGIN:STANDARD
TZOFFSETFROM:+0200
TZOFFSETTO:+0100
TZNAME:CET
DTSTART:20261025T010000
END:STANDARD
END:VTIMEZONE
BEGIN:VEVENT
DTSTART;TZID="Europe/Vienna":20260426T180000
DTEND;TZID="Europe/Vienna":20260426T203000
DTSTAMP:20260425T140332
CREATED:20251210T140749Z
LAST-MODIFIED:20251210T140749Z
UID:111886-1777226400-1777235400@www.strawanzerin.at
SUMMARY:CHECKING IN ''Chaos auf der Landebahn''
DESCRIPTION:Willkommen zum Check-in für die 10. Eigenproduktion! \nWenn Passagiere keine gewöhnlichen Reisenden\, sondern Artisten sind\, ist Langeweile am Gate ausgeschlossen. Doch was tun\, wenn der Flug plötzlich gestrichen wird? \nWährend alle verzweifelt auf den Flug warten\, greifen die Piloten selbst zu den wildesten Tricks\, um den Abflug möglich zu machen – mit jeder Menge Artistik\, Musik und schrägem Humor. Koffer verwandeln sich plötzlich in Jonglierbälle\, Sitze in Balancegeräte und selbst die Durchsagen am Gate werden zur Comedy-Nummer. \nOb sie jemals abheben werden? Das steht in den Wolken! \nEine urkomische Show voller Überraschungen\, atemberaubender Akrobatik\, musikalischer Momente und herrlich turbulenter Ideen. \nSchnallen Sie sich an und bringen Sie Ihre Sitze in eine aufrechte Position – dieser Flug wird turbulent! \n
URL:https://www.strawanzerin.at/termin/checking-in-chaos-auf-der-landebahn/2026-04-26/
LOCATION:Papierfabrik Varieté\, Kirchenplatz 9\, Kleinneusiedl\, Niederösterreich\, 2431
CATEGORIES:Niederösterreich,Theater/Kabarett
ATTACH;FMTTYPE=image/jpeg:https://www.strawanzerin.at/wp-content/uploads/2025/12/FB-CHECKING-IN-c-StefanWasner-scaled.jpeg
ORGANIZER;CN="Papierfabrik%20Variet%C3%A9":MAILTO:info@papierfabrik-variete.com
END:VEVENT
END:VCALENDAR