BEGIN:VCALENDAR
VERSION:2.0
PRODID:-//STRAWANZERIN - ECPv4.9.5//NONSGML v1.0//EN
CALSCALE:GREGORIAN
METHOD:PUBLISH
X-WR-CALNAME:STRAWANZERIN
X-ORIGINAL-URL:https://www.strawanzerin.at
X-WR-CALDESC:Veranstaltungen im STRAWANZERIN
BEGIN:VTIMEZONE
TZID:"Europe/Vienna"
BEGIN:DAYLIGHT
TZOFFSETFROM:+0100
TZOFFSETTO:+0200
TZNAME:CEST
DTSTART:20260329T010000
END:DAYLIGHT
BEGIN:STANDARD
TZOFFSETFROM:+0200
TZOFFSETTO:+0100
TZNAME:CET
DTSTART:20261025T010000
END:STANDARD
END:VTIMEZONE
BEGIN:VEVENT
DTSTART;TZID="Europe/Vienna":20260214T180000
DTEND;TZID="Europe/Vienna":20260214T200000
DTSTAMP:20260420T172821
CREATED:20260205T092122Z
LAST-MODIFIED:20260205T092122Z
UID:112262-1771092000-1771099200@www.strawanzerin.at
SUMMARY:Chinesisches Konzert zum neuen Jahr in Liesing
DESCRIPTION:Etwas ganz Besonderes erwartet Sie zum Valentinstag in Liesing:\nErleben Sie das faszinierende und einzigartige\nChinesische Neujahrskonzert!\nDas Jahr des Pferdes brint Ihnen Glück\, Vitalität und Vorwärtsdrang.\nGönnen auch Sie sich diese unbeschreibliche Freude.\nWir laden Sie sehr herzlich ein\, mitzufeiern!\nEs erwartet Sie ein unvergesslicher Nachmittag\nam\nSamstag\, den 14. Februar um 15.00\nim\nF 23\nGastgebgasse 4\, 1230 Wien \nDer Konzertsaal F 23 ist mit dem\nBus Linie 62a\, Haltestelle Atzgersdorf Bildungscampus\, erreichbar.\nDer Eintritt ist frei. Kostenlose Zählkarten sind erforderlich und erhältlich bei: www.f23.at \n
URL:https://www.strawanzerin.at/termin/chinesisches-konzert-zum-neuen-jahr-in-liesing/
LOCATION:F 23\, Gastgebgasse 4\, Wien\, Wien\, 1230\, Österreich
CATEGORIES:ab 7,Fest,Gratis,Musik
ATTACH;FMTTYPE=image/jpeg:https://www.strawanzerin.at/wp-content/uploads/2026/01/Chinesisches-Neujahr-1-2.jpeg
END:VEVENT
END:VCALENDAR