BEGIN:VCALENDAR
VERSION:2.0
PRODID:-//STRAWANZERIN - ECPv4.9.5//NONSGML v1.0//EN
CALSCALE:GREGORIAN
METHOD:PUBLISH
X-WR-CALNAME:STRAWANZERIN
X-ORIGINAL-URL:https://www.strawanzerin.at
X-WR-CALDESC:Veranstaltungen im STRAWANZERIN
BEGIN:VTIMEZONE
TZID:"Europe/Helsinki"
BEGIN:DAYLIGHT
TZOFFSETFROM:+0200
TZOFFSETTO:+0300
TZNAME:EEST
DTSTART:20150329T010000
END:DAYLIGHT
BEGIN:STANDARD
TZOFFSETFROM:+0300
TZOFFSETTO:+0200
TZNAME:EET
DTSTART:20151025T010000
END:STANDARD
END:VTIMEZONE
BEGIN:VEVENT
DTSTART;TZID="Europe/Helsinki":20150220T200000
DTEND;TZID="Europe/Helsinki":20150220T213000
DTSTAMP:20260421T092056
CREATED:20150106T171157Z
LAST-MODIFIED:20150108T122728Z
UID:10146-1424462400-1424467800@www.strawanzerin.at
SUMMARY:Christian Lukas-Altenburg und Jungautor Nico aus Deutschland präsentieren ihre Bestseller in Wien!
DESCRIPTION:Am 20. Februar präsentiert der aus den Medien bekannte mehrfache Bestseller-Autor und Publizist Christian Lukas-Altenburg sein aktuelles Buch „DU UND ICH oder unser Erleben in kurzen Worten…“\, das aufzeigt\, weshalb Kinder auf die schiefe Bahn geraten.  \nDer 17jährige Nico Jung stellt sein Erstlingswerk „NICO. Ich liebe mein Leben“ vor\, das er gemeinsam mit Christian Lukas-Altenburg geschrieben hat. Nico erzählt von seinen Erfahrungen in der Kinder- und Jugendpsychiatrie\, seinen Wünschen und Träumen und seiner Schulzeit in einer Sonderschule für Lernschwache.  \nBeide Bücher aus der Reihe „Eine gescheiterte Existenz“ (CLA Medien Verlag) erlangten bereits kurz nach ihrem Erscheinen 2014 Bestseller-Status! \n
URL:https://www.strawanzerin.at/termin/christian-lukas-altenburg-und-jungautor-nico-aus-deutschland-praesentieren-ihre-bestseller-in-wien/
LOCATION:Osteria Allora\, Wallensteinplatz 5-6\, Wien\, Wien\, 1200\, Österreich
CATEGORIES:Deutsch,freie Spende,Literatur,Soziale Kämpfe,Wien
ATTACH;FMTTYPE=image/jpeg:https://www.strawanzerin.at/wp-content/uploads/2015/01/20.2.-bilder.worte_.toene-2015-web.jpg
ORGANIZER;CN="Ursula%20Pfeiffer%20verein%20%3A%3Akunst-projekte%3A%3A%20der%20%5Bgalerie%5Dstudio38%20zvr%20123612155":MAILTO:office@galeriestudio38.at
GEO:48.2295781;16.3715666
X-APPLE-STRUCTURED-LOCATION;VALUE=URI;X-ADDRESS=Osteria Allora Wallensteinplatz 5-6 Wien Wien 1200 Österreich;X-APPLE-RADIUS=500;X-TITLE=Wallensteinplatz 5-6:geo:16.3715666,48.2295781
END:VEVENT
END:VCALENDAR