BEGIN:VCALENDAR
VERSION:2.0
PRODID:-//STRAWANZERIN - ECPv4.9.5//NONSGML v1.0//EN
CALSCALE:GREGORIAN
METHOD:PUBLISH
X-WR-CALNAME:STRAWANZERIN
X-ORIGINAL-URL:https://www.strawanzerin.at
X-WR-CALDESC:Veranstaltungen im STRAWANZERIN
BEGIN:VTIMEZONE
TZID:"Europe/Vienna"
BEGIN:DAYLIGHT
TZOFFSETFROM:+0100
TZOFFSETTO:+0200
TZNAME:CEST
DTSTART:20220327T010000
END:DAYLIGHT
BEGIN:STANDARD
TZOFFSETFROM:+0200
TZOFFSETTO:+0100
TZNAME:CET
DTSTART:20221030T010000
END:STANDARD
END:VTIMEZONE
BEGIN:VEVENT
DTSTART;TZID="Europe/Vienna":20220506T200000
DTEND;TZID="Europe/Vienna":20220506T220000
DTSTAMP:20260421T191921
CREATED:20220407T153541Z
LAST-MODIFIED:20220428T081022Z
UID:84055-1651867200-1651874400@www.strawanzerin.at
SUMMARY:Christine Teichmann - Links Rechts Menschenrecht
DESCRIPTION:Das Gasthaus zum Menschenrecht hat eigentlich ein fixes Menü mit 30 Artikeln auf der\nCharta\, aber die Wirtin ist schon gewöhnt\, dass die Gäste nicht die ganze Speisenfolge\nmögen. Eine Runde Wahlrecht für alle wird schon bestellt\, aber kann man da die Stimmen\nder Rechten nicht weglassen und dafür mehr Gemeinwohl dazu tun? Und natürlich will\nniemand Sklaverei\, aber wenn die Oma dringend Pflege braucht\, wäre so eine kleine\nPortion Leibeigenschaft schon noch eine Bestellung wert. Und hätten Sie einmal\nTyrannenmord mit Schlag\, also Anschlag? Eine Pflichtveranstaltung für Gutmenschen und\nalle\, die gerne ein wenig an der Fassade kratzen. \n
URL:https://www.strawanzerin.at/termin/christine-teichmann-links-rechts-menschenrecht-3/
LOCATION:HOB i RAUM\, Hanuschgasse 1\, Bad Vöslau\, Niederösterreich\, 2540
CATEGORIES:Eintrittspreis,Theater/Kabarett
ORGANIZER;CN="HOB%20i%20RAUM":MAILTO:petra@hobiraum.at
GEO:47.9686941;16.2205195
X-APPLE-STRUCTURED-LOCATION;VALUE=URI;X-ADDRESS=HOB i RAUM Hanuschgasse 1 Bad Vöslau Niederösterreich 2540;X-APPLE-RADIUS=500;X-TITLE=Hanuschgasse 1:geo:16.2205195,47.9686941
END:VEVENT
END:VCALENDAR