BEGIN:VCALENDAR
VERSION:2.0
PRODID:-//STRAWANZERIN - ECPv4.9.5//NONSGML v1.0//EN
CALSCALE:GREGORIAN
METHOD:PUBLISH
X-WR-CALNAME:STRAWANZERIN
X-ORIGINAL-URL:https://www.strawanzerin.at
X-WR-CALDESC:Veranstaltungen im STRAWANZERIN
BEGIN:VTIMEZONE
TZID:"Europe/Helsinki"
BEGIN:DAYLIGHT
TZOFFSETFROM:+0200
TZOFFSETTO:+0300
TZNAME:EEST
DTSTART:20140330T010000
END:DAYLIGHT
BEGIN:STANDARD
TZOFFSETFROM:+0300
TZOFFSETTO:+0200
TZNAME:EET
DTSTART:20141026T010000
END:STANDARD
END:VTIMEZONE
BEGIN:VEVENT
DTSTART;TZID="Europe/Helsinki":20140520T200000
DTEND;TZID="Europe/Helsinki":20140520T220000
DTSTAMP:20260422T102526
CREATED:20140513T103006Z
LAST-MODIFIED:20140513T103129Z
UID:1066-1400616000-1400623200@www.strawanzerin.at
SUMMARY:Christl Greller und Irene Pollak bei bilder.worte.töne & Ausstellungseröffnung STADT.TRAUM.ENGEL
DESCRIPTION:Christl Greller und Irene Pollak bei bilder.worte.töne – Prosa\, Lyrik und Kunst an einem Abend! \nAm 20. Mai lesen die beiden Autorinnen Christl GRELLER und Irene POLLAK aus ihren Werken\, in denen das Thema „Paradiese“ in verschiedenen Facetten einfließt. Erweitert wird der Abend durch die Eröffnung der Ausstellung „Stadt.Raum.Engel“ von Irene POLLAK. In den ausgestellten Bildern finden sich auch Motive aus den Erzählungen von Christl Greller. Christl GRELLER liest die Erzählung „Das Land der unbegrenzten Möglichkeiten“ aus dem Erzählband SCHATTEN WERFEN Resistenz Verlag\, ISBN 3-85285-087-8\, € 15\,-\, erhältlich bei der Autorin via grellerc[at]networld.at & die Erzählung „Schwalbenland“ aus dem 2014 neu erschienenen Erzählband IM NARRENTURM Edition Rösner ISBN 978-3-902300-83-6 € 21.50 Irene POLLAK liest Lyrik u. a. aus: TREIBSAND ÜBER STOLPERSTEIN BoD ISBN 978-3-8311-4418-1 und ÜBER’S JAHR BoD ISBN 978-3-8334-6645-8 & Ausstellungseröffnung STADT.TRAUM.ENGEL \n
URL:https://www.strawanzerin.at/termin/christl-greller-und-irene-pollak-bei-bilder-worte-toene/
LOCATION:Osteria Allora\, Wallensteinplatz 5-6\, Wien\, Wien\, 1200\, Österreich
CATEGORIES:Ausstellung,Deutsch,Gratis,Literatur
GEO:48.2295781;16.3715666
X-APPLE-STRUCTURED-LOCATION;VALUE=URI;X-ADDRESS=Osteria Allora Wallensteinplatz 5-6 Wien Wien 1200 Österreich;X-APPLE-RADIUS=500;X-TITLE=Wallensteinplatz 5-6:geo:16.3715666,48.2295781
END:VEVENT
END:VCALENDAR