BEGIN:VCALENDAR
VERSION:2.0
PRODID:-//STRAWANZERIN - ECPv4.9.5//NONSGML v1.0//EN
CALSCALE:GREGORIAN
METHOD:PUBLISH
X-WR-CALNAME:STRAWANZERIN
X-ORIGINAL-URL:https://www.strawanzerin.at
X-WR-CALDESC:Veranstaltungen im STRAWANZERIN
BEGIN:VTIMEZONE
TZID:"Europe/Vienna"
BEGIN:DAYLIGHT
TZOFFSETFROM:+0100
TZOFFSETTO:+0200
TZNAME:CEST
DTSTART:20220327T010000
END:DAYLIGHT
BEGIN:STANDARD
TZOFFSETFROM:+0200
TZOFFSETTO:+0100
TZNAME:CET
DTSTART:20221030T010000
END:STANDARD
END:VTIMEZONE
BEGIN:VEVENT
DTSTART;TZID="Europe/Vienna":20220325T200000
DTEND;TZID="Europe/Vienna":20220327T020000
DTSTAMP:20260421T152453
CREATED:20220202T055530Z
LAST-MODIFIED:20220202T120814Z
UID:82667-1648238400-1648346400@www.strawanzerin.at
SUMMARY:Circuito Latino
DESCRIPTION:DER NEUE CIRCUITO LATINO IST DA !\nStolz präsentieren wir euch ein einzigartiges Line-Up\, bei dem für jede*n etwas dabei ist: acht Bands von ruhig bis laut\, von Cumbia bis Ska\, von Folklore bis Klassik und wieder zurück; mit einem Abstecher über Salsa\, Pop und Maracatu Brasil.\nGute lateinamerikanische Musik aus Wien zum Tanzen\, Staunen\, Genießen & Feiern!  \nAn zwei Tagen erwarten euch: \n* Live-Konzerte von: Manteka\, Laura Aya\, Família Pádua\, Son del Raval\, Paco Acústico\, Arará und Quinteto Latinoamericano\n* DJ-Sets von unserem neu gegründeten DJ-KOLLEKTIV LA PERICA\n* kostenloser Trommel-Workshop inkl. Performance von und mit Maracatu Nossa Luz\n* Punsch & Musik im öffentlichen Raum (Ort wird noch bekanntgegeben) \nWir freuen uns auf ein Wochenende voller Spaß\, Tanz\, netter Leute und musikalischer Überraschungen. Mehr Info unter: www.laperica.at  \nPROGRAMM \nFREITAG\, 25.03.2022 \n** Mi Barrio**\n19:30 Einlass\n20:00 Quinteto Latinoamericano\n21:30 Paco Acústico\n23:00 Manteka\n00:30 DJ-Line \nSAMSTAG\, 26.03.2022 \n** Open Air (tba) – Mexikanischer Punsch & Maracatu **\n16:30 DJ-Kollektiv La Perica\n17:30 Workshop de percusión con Maracatu Nossa Luz\n18:00 Maracatu Nossa Luz\n18:30 Arará \n** Mi Barrio **\n19:30 Einlass\n20:00 Família Pádua\n21:30 Son del Raval\n23:00 Laura Aya\n00:30 DJ-Line \n2G: geimpft\, genesen\nOpen Air Programm: gratis\nMi Barrio – Tagesticket: VVK 10 EUR\, AK 15 EUR\nHappy Hour 19:30 – 21:00 –> 10 EUR \nGefördert von der Stadt Wien Ma7 \n
URL:https://www.strawanzerin.at/termin/circuito-latino/
LOCATION:Mi barrio\, Münzwardeingasse 2\, Wien\, Wien\, 1060\, Österreich
CATEGORIES:DJ-Line,Musik,Party,Tanz,Workshop
ATTACH;FMTTYPE=image/jpeg:https://www.strawanzerin.at/wp-content/uploads/2022/02/Face-Event.jpg
ORGANIZER;CN="La%20Perica":MAILTO:info@laperica.at
GEO:48.1940546;16.3518428
X-APPLE-STRUCTURED-LOCATION;VALUE=URI;X-ADDRESS=Mi barrio Münzwardeingasse 2 Wien Wien 1060 Österreich;X-APPLE-RADIUS=500;X-TITLE=Münzwardeingasse 2:geo:16.3518428,48.1940546
END:VEVENT
END:VCALENDAR